BEGIN:VCALENDAR
VERSION:2.0
PRODID:-//Brewery Arts Center - ECPv6.15.9//NONSGML v1.0//EN
CALSCALE:GREGORIAN
METHOD:PUBLISH
X-WR-CALNAME:Brewery Arts Center
X-ORIGINAL-URL:https://breweryarts.org
X-WR-CALDESC:Events for Brewery Arts Center
REFRESH-INTERVAL;VALUE=DURATION:PT1H
X-Robots-Tag:noindex
X-PUBLISHED-TTL:PT1H
BEGIN:VTIMEZONE
TZID:America/Los_Angeles
BEGIN:DAYLIGHT
TZOFFSETFROM:-0800
TZOFFSETTO:-0700
TZNAME:PDT
DTSTART:20220313T100000
END:DAYLIGHT
BEGIN:STANDARD
TZOFFSETFROM:-0700
TZOFFSETTO:-0800
TZNAME:PST
DTSTART:20221106T090000
END:STANDARD
BEGIN:DAYLIGHT
TZOFFSETFROM:-0800
TZOFFSETTO:-0700
TZNAME:PDT
DTSTART:20230312T100000
END:DAYLIGHT
BEGIN:STANDARD
TZOFFSETFROM:-0700
TZOFFSETTO:-0800
TZNAME:PST
DTSTART:20231105T090000
END:STANDARD
BEGIN:DAYLIGHT
TZOFFSETFROM:-0800
TZOFFSETTO:-0700
TZNAME:PDT
DTSTART:20240310T100000
END:DAYLIGHT
BEGIN:STANDARD
TZOFFSETFROM:-0700
TZOFFSETTO:-0800
TZNAME:PST
DTSTART:20241103T090000
END:STANDARD
END:VTIMEZONE
BEGIN:VEVENT
DTSTART;TZID=America/Los_Angeles:20231024T153000
DTEND;TZID=America/Los_Angeles:20231024T173000
DTSTAMP:20260421T211615
CREATED:20231025T073818Z
LAST-MODIFIED:20231205T004654Z
UID:10000332-1698161400-1698168600@breweryarts.org
SUMMARY:After School Art Class - October/December
DESCRIPTION:Ages 7-13. Tuesdays 3:30-5:30 (No Class Oct. 31 or Nov. 21) with instructor – Lee Netzle \nStudents start with drawing\, first choosing from a file of reference pictures of various subject matter. They learn to study the picture they have chosen determining the size of the drawing\, the shapes involved and the placement of one part to another. \nThey then go on to paint their drawing. The students will work with three different paint mediums – water color\, acrylic and pastel. They will learn the application process of each medium along with the mixing\, lightening\, and darkening of the colors. \nStudents will follow instructions and be given freedom to express their individuality – Sometimes with very interesting results.
URL:https://breweryarts.org/event/after-school-art-class-october-december/
LOCATION:NV
CATEGORIES:Classes
ATTACH;FMTTYPE=image/jpeg:https://breweryarts.org/wp-content/uploads/2023/10/AfterSchoolArt.jpg
END:VEVENT
BEGIN:VEVENT
DTSTART;TZID=America/Los_Angeles:20231024T120000
DTEND;TZID=America/Los_Angeles:20231024T160000
DTSTAMP:20260421T211615
CREATED:20231025T072443Z
LAST-MODIFIED:20231205T004722Z
UID:10000001-1698148800-1698163200@breweryarts.org
SUMMARY:Murus: Dividers Unite: Group Exhibition
DESCRIPTION:The word mural is derived from the Latin word murus\, meaning wall. Walls were used as dividers\, especially in Roman times. Early graffiti artists were looked down upon for defacing and destroying property. Today\, muralists around the world enhance neighborhoods with their craft and we are thrilled to celebrate them in Carson City. \nGet to know the muralists more intimately by exploring canvas and mixed media pieces from the 25 participating festival artists. \nJoin for a special reception and meet the artists in person on Thursday September 28 from 6-8pm. \nThis exhibition also features University Libraries “Reno Street Art VR” – Wearing a VR headset\, users can experience over 100 different 360 video locations of street art including an interactive map of Reno and immersive vignettes from local muralists. \n$10 suggested donation | $5 suggested donation for seniors/students
URL:https://breweryarts.org/event/murus-dividers-unite-group-exhibition/
LOCATION:Brewery Arts Center | East Building | Exhibition Hall\, 449 W King St\, Carson City\, NV\, 89703\, United States
ATTACH;FMTTYPE=image/jpeg:https://breweryarts.org/wp-content/uploads/2023/10/Murus_site.jpg
END:VEVENT
END:VCALENDAR