BEGIN:VCALENDAR
VERSION:2.0
PRODID:-//Brewery Arts Center - ECPv6.15.20//NONSGML v1.0//EN
CALSCALE:GREGORIAN
METHOD:PUBLISH
X-ORIGINAL-URL:https://breweryarts.org
X-WR-CALDESC:Events for Brewery Arts Center
REFRESH-INTERVAL;VALUE=DURATION:PT1H
X-Robots-Tag:noindex
X-PUBLISHED-TTL:PT1H
BEGIN:VTIMEZONE
TZID:America/Los_Angeles
BEGIN:DAYLIGHT
TZOFFSETFROM:-0800
TZOFFSETTO:-0700
TZNAME:PDT
DTSTART:20230312T100000
END:DAYLIGHT
BEGIN:STANDARD
TZOFFSETFROM:-0700
TZOFFSETTO:-0800
TZNAME:PST
DTSTART:20231105T090000
END:STANDARD
BEGIN:DAYLIGHT
TZOFFSETFROM:-0800
TZOFFSETTO:-0700
TZNAME:PDT
DTSTART:20240310T100000
END:DAYLIGHT
BEGIN:STANDARD
TZOFFSETFROM:-0700
TZOFFSETTO:-0800
TZNAME:PST
DTSTART:20241103T090000
END:STANDARD
BEGIN:DAYLIGHT
TZOFFSETFROM:-0800
TZOFFSETTO:-0700
TZNAME:PDT
DTSTART:20250309T100000
END:DAYLIGHT
BEGIN:STANDARD
TZOFFSETFROM:-0700
TZOFFSETTO:-0800
TZNAME:PST
DTSTART:20251102T090000
END:STANDARD
END:VTIMEZONE
BEGIN:VEVENT
DTSTART;TZID=America/Los_Angeles:20240330T180000
DTEND;TZID=America/Los_Angeles:20240330T200000
DTSTAMP:20260425T142632
CREATED:20240309T183835Z
LAST-MODIFIED:20240309T183835Z
UID:10001842-1711821600-1711828800@breweryarts.org
SUMMARY:NVDC Presents | Artistry In Motion | Saturday | March 30th 2024
DESCRIPTION:Nevada Dance Company’s spring performance returns for a second year with Artistry in Motion. Join us for an evening of Classical and Contemporary Ballet performed by NVDC’s Professional and Pre Professional dancers. Classical works including the spectacular Don Quixote 3rd Act (Petipa)\, Gershwin (Adams)\, world premiere of Dance of the Macabre (Adams) and Contemporary works including As Time Goes By (Biber) originally choreographed on the Sacramento Ballet Company. \nThis is an independent event not ticketed by BAC – Click Here For Tickets
URL:https://breweryarts.org/event/20240330-nvdc/
LOCATION:Brewery Arts Center | West Building | Performance Hall\, 511 W. King St.\, Carson City\, NV\, 89703\, United States
CATEGORIES:Dance
ATTACH;FMTTYPE=image/jpeg:https://breweryarts.org/wp-content/uploads/2024/03/20240330-Nevada-Dance-Co.jpeg
END:VEVENT
END:VCALENDAR