BEGIN:VCALENDAR
VERSION:2.0
PRODID:-//Brewery Arts Center - ECPv6.15.20//NONSGML v1.0//EN
CALSCALE:GREGORIAN
METHOD:PUBLISH
X-ORIGINAL-URL:https://breweryarts.org
X-WR-CALDESC:Events for Brewery Arts Center
REFRESH-INTERVAL;VALUE=DURATION:PT1H
X-Robots-Tag:noindex
X-PUBLISHED-TTL:PT1H
BEGIN:VTIMEZONE
TZID:America/Los_Angeles
BEGIN:DAYLIGHT
TZOFFSETFROM:-0800
TZOFFSETTO:-0700
TZNAME:PDT
DTSTART:20230312T100000
END:DAYLIGHT
BEGIN:STANDARD
TZOFFSETFROM:-0700
TZOFFSETTO:-0800
TZNAME:PST
DTSTART:20231105T090000
END:STANDARD
BEGIN:DAYLIGHT
TZOFFSETFROM:-0800
TZOFFSETTO:-0700
TZNAME:PDT
DTSTART:20240310T100000
END:DAYLIGHT
BEGIN:STANDARD
TZOFFSETFROM:-0700
TZOFFSETTO:-0800
TZNAME:PST
DTSTART:20241103T090000
END:STANDARD
BEGIN:DAYLIGHT
TZOFFSETFROM:-0800
TZOFFSETTO:-0700
TZNAME:PDT
DTSTART:20250309T100000
END:DAYLIGHT
BEGIN:STANDARD
TZOFFSETFROM:-0700
TZOFFSETTO:-0800
TZNAME:PST
DTSTART:20251102T090000
END:STANDARD
END:VTIMEZONE
BEGIN:VEVENT
DTSTART;TZID=America/Los_Angeles:20240504T190000
DTEND;TZID=America/Los_Angeles:20240504T203000
DTSTAMP:20260425T090318
CREATED:20240417T222730Z
LAST-MODIFIED:20240417T225817Z
UID:10002005-1714849200-1714854600@breweryarts.org
SUMMARY:Ballet Folklórico | Cinco de Mayo Festival | Saturday | May 4th
DESCRIPTION:“Esto es México!”\nThis is Mexico! You’re invited to join the folkloric cultural mosaic and tour a diverse and immense nation\, full of colors\, flavors\, dances\, rhythms\, and sounds. The ancestral cultures have left a legacy for all humanity\, Mexico is not a country\, Mexico is a world in itself! Welcome to Estampas de México. Esto es México.”\n\n\nThe groups Ballet Folklórico Internacional de Reno and Danza Azteca Aztlán\, emerged in 2006 with the purpose of representing the multicultural mosaic of México\, with interpretations of dancing and dances\, characteristics of each state and different communities and towns of the country\, proudly carrying the great ethnic and linguistic variety of a great nation. The greatness of México is marked by its ancient past\, land of great civilizations such as the Aztecas\, Mayas\, Olmecas\, Zapotecas\, Purépechas among many others that have left a great legacy and a precedent for humanity\, which upon the arrival of the conquerors was outraged and devastated but never erased\, since it managed to mix its mysticism\, colors and rhythms with the sounds of the old world\, to thus giving rise to the great authenticity of which today is the folkloric greatness of México. Ballet Folklórico Internacional de Reno and Danza Azteca Aztlán have always made a commitment to represent with dignity and respect the essence of our roots and what we are made of\, having as their main ideal to support and disseminate art and folklore as a learning tool for our youth. \nLos grupos Ballet folklorico Internacional de Reno y Danza Azteca Aztlan\, surgieron en el 2006 con la finalida de representar el mosaico multicultural de Mexico\, con interpretaciones de bailes y danzas caracteristicass de cada estado y de diferentes comunidades y pueblos del pais\, portando con orgullo la gran variedad etnica y linguistiaca de una gran nacion. La grandeza de Mexio esta marcada por su passado milenario\,\, tierra de grandes civilizaciones como los Aztecas\, Mayas\, Olecas\, Zapotecas\, Purepechas entre muchas otras mas que han dejado un gran legado y un precedene para la humanidad\, que a la llegada de las conquistadores fue ulttrajada y devastada pero jams borrada\, pues logro mesclar su misticismo\, colores y ritmos con los sones de Viejo mundo\, para asi dar pie a la gran autenticidad de lo que hoy dia es la grandeza folclorica de Mexico. Ballet Folklorico Internacional de Reno y Danza Azteca Aztlan diempre han tenido el compromise de representar con dignidad y respeto la esencia de nuestras raices y de lo que estamos formados\, teniendo coo principal ideal apyar y difundir el arte y folklore como una herramienta de aprendizaje para nuestros Jovenes.
URL:https://breweryarts.org/event/20240504-cinco-ballet/
LOCATION:Brewery Arts Center | East Building | The Maizie Theater\, 449 W King St\, Carson City\, NV\, 89703\, United States
CATEGORIES:Cinco de Mayo,Dance,Festivals
ATTACH;FMTTYPE=image/jpeg:https://breweryarts.org/wp-content/uploads/2024/04/202405_CincodeMayo-scaled.jpg
END:VEVENT
BEGIN:VEVENT
DTSTART;TZID=America/Los_Angeles:20240505T170000
DTEND;TZID=America/Los_Angeles:20240505T183000
DTSTAMP:20260425T090318
CREATED:20240417T223221Z
LAST-MODIFIED:20240417T225659Z
UID:10002006-1714928400-1714933800@breweryarts.org
SUMMARY:Ballet Folklórico | Cinco de Mayo Festival | Sunday | May 5th
DESCRIPTION:“Esto es México!”\nThis is Mexico! You’re invited to join the folkloric cultural mosaic and tour a diverse and immense nation\, full of colors\, flavors\, dances\, rhythms\, and sounds. The ancestral cultures have left a legacy for all humanity\, Mexico is not a country\, Mexico is a world in itself! Welcome to Estampas de México. Esto es México.”\n\n\nThe groups Ballet Folklórico Internacional de Reno and Danza Azteca Aztlán\, emerged in 2006 with the purpose of representing the multicultural mosaic of México\, with interpretations of dancing and dances\, characteristics of each state and different communities and towns of the country\, proudly carrying the great ethnic and linguistic variety of a great nation. The greatness of México is marked by its ancient past\, land of great civilizations such as the Aztecas\, Mayas\, Olmecas\, Zapotecas\, Purépechas among many others that have left a great legacy and a precedent for humanity\, which upon the arrival of the conquerors was outraged and devastated but never erased\, since it managed to mix its mysticism\, colors and rhythms with the sounds of the old world\, to thus giving rise to the great authenticity of which today is the folkloric greatness of México. Ballet Folklórico Internacional de Reno and Danza Azteca Aztlán have always made a commitment to represent with dignity and respect the essence of our roots and what we are made of\, having as their main ideal to support and disseminate art and folklore as a learning tool for our youth. \nLos grupos Ballet folklorico Internacional de Reno y Danza Azteca Aztlan\, surgieron en el 2006 con la finalida de representar el mosaico multicultural de Mexico\, con interpretaciones de bailes y danzas caracteristicass de cada estado y de diferentes comunidades y pueblos del pais\, portando con orgullo la gran variedad etnica y linguistiaca de una gran nacion. La grandeza de Mexio esta marcada por su passado milenario\,\, tierra de grandes civilizaciones como los Aztecas\, Mayas\, Olecas\, Zapotecas\, Purepechas entre muchas otras mas que han dejado un gran legado y un precedene para la humanidad\, que a la llegada de las conquistadores fue ulttrajada y devastada pero jams borrada\, pues logro mesclar su misticismo\, colores y ritmos con los sones de Viejo mundo\, para asi dar pie a la gran autenticidad de lo que hoy dia es la grandeza folclorica de Mexico. Ballet Folklorico Internacional de Reno y Danza Azteca Aztlan diempre han tenido el compromise de representar con dignidad y respeto la esencia de nuestras raices y de lo que estamos formados\, teniendo coo principal ideal apyar y difundir el arte y folklore como una herramienta de aprendizaje para nuestros Jovenes.
URL:https://breweryarts.org/event/20240505-cinco-ballet/
LOCATION:Brewery Arts Center | East Building | The Maizie Theater\, 449 W King St\, Carson City\, NV\, 89703\, United States
CATEGORIES:Cinco de Mayo,Dance,Festivals
ATTACH;FMTTYPE=image/jpeg:https://breweryarts.org/wp-content/uploads/2024/04/202405_CincodeMayo-scaled.jpg
END:VEVENT
BEGIN:VEVENT
DTSTART;TZID=America/Los_Angeles:20240525T183000
DTEND;TZID=America/Los_Angeles:20240525T213000
DTSTAMP:20260425T090318
CREATED:20240301T214111Z
LAST-MODIFIED:20240301T214455Z
UID:10001769-1716661800-1716672600@breweryarts.org
SUMMARY:High Sierra Swing Dance Club | Lesson & Dance | Fourth Saturday Each Month
DESCRIPTION:High Sierra Swing Dance Club’s monthly lesson & dance welcomes a variety of guest instructors to teach Intermediate lessons from 6:30-7:30pm. \nOpen social dancing follows from 7:30-9:30pm. All levels welcome\, no partner needed. \nLesson and Dance are each $15 ($10 for HSSDC Members). No advanced tickets\, pay at the event. \nClick Here For More Information
URL:https://breweryarts.org/event/hssdc/2024-05-25/
LOCATION:Brewery Arts Center | East Building | Grand Ballroom\, 449 W KING ST\, CARSON CITY\, NV\, 89703\, United States
CATEGORIES:Dance
ATTACH;FMTTYPE=image/jpeg:https://breweryarts.org/wp-content/uploads/2024/02/high-sierra-swing-scaled.jpg
ORGANIZER;CN="High Sierra Swing Dance Club":MAILTO:pres@hssdc.org
END:VEVENT
END:VCALENDAR