BEGIN:VCALENDAR
VERSION:2.0
PRODID:-//Brewery Arts Center - ECPv6.15.9//NONSGML v1.0//EN
CALSCALE:GREGORIAN
METHOD:PUBLISH
X-ORIGINAL-URL:https://breweryarts.org
X-WR-CALDESC:Events for Brewery Arts Center
REFRESH-INTERVAL;VALUE=DURATION:PT1H
X-Robots-Tag:noindex
X-PUBLISHED-TTL:PT1H
BEGIN:VTIMEZONE
TZID:America/Los_Angeles
BEGIN:DAYLIGHT
TZOFFSETFROM:-0800
TZOFFSETTO:-0700
TZNAME:PDT
DTSTART:20240310T100000
END:DAYLIGHT
BEGIN:STANDARD
TZOFFSETFROM:-0700
TZOFFSETTO:-0800
TZNAME:PST
DTSTART:20241103T090000
END:STANDARD
BEGIN:DAYLIGHT
TZOFFSETFROM:-0800
TZOFFSETTO:-0700
TZNAME:PDT
DTSTART:20250309T100000
END:DAYLIGHT
BEGIN:STANDARD
TZOFFSETFROM:-0700
TZOFFSETTO:-0800
TZNAME:PST
DTSTART:20251102T090000
END:STANDARD
BEGIN:DAYLIGHT
TZOFFSETFROM:-0800
TZOFFSETTO:-0700
TZNAME:PDT
DTSTART:20260308T100000
END:DAYLIGHT
BEGIN:STANDARD
TZOFFSETFROM:-0700
TZOFFSETTO:-0800
TZNAME:PST
DTSTART:20261101T090000
END:STANDARD
END:VTIMEZONE
BEGIN:VEVENT
DTSTART;TZID=America/Los_Angeles:20250523T183000
DTEND;TZID=America/Los_Angeles:20250523T210000
DTSTAMP:20260419T173953
CREATED:20250408T190431Z
LAST-MODIFIED:20250523T170420Z
UID:10002526-1748025000-1748034000@breweryarts.org
SUMMARY:Adult Paint & Sip | Cabin of Peace | May 23rd 2025
DESCRIPTION:Enjoy a fun and easy acrylic painting class as you follow along with instructor Debbie Corona in a relaxed and friendly atmosphere. \nIncludes two complimentary beverages and all materials. \nPlease arrive through 2nd St entrance.
URL:https://breweryarts.org/event/20250523-ps-cabin/
LOCATION:Brewery Arts Center | South Building | Painting Studio\, 449 W King St\, Carson City\, NV\, 89703\, United States
CATEGORIES:Classes
ATTACH;FMTTYPE=image/jpeg:https://breweryarts.org/wp-content/uploads/2025/04/Cabin-of-Peace.jpg
END:VEVENT
BEGIN:VEVENT
DTSTART;TZID=America/Los_Angeles:20250530T170000
DTEND;TZID=America/Los_Angeles:20250530T183000
DTSTAMP:20260419T173953
CREATED:20250404T180515Z
LAST-MODIFIED:20250410T225330Z
UID:10002523-1748624400-1748629800@breweryarts.org
SUMMARY:Imagine\, Inspire\, Create – Groovy Little Peace Bracelet | Happy Hour for the Soul Workshop | Friday | May 30th 2025
DESCRIPTION:Join jewelry artist\, Kym Maehl\, the fun in this fabulous & creative class! \nThis is a great class for all levels!  We’ll be tapping into our inner hippie vibe with these great bracelets made of wire\, beads and of course the iconic peace sign!  We’ll be twisting and wrapping and maybe even singing as we create and and sip our beverage of choice.  What a great way to prepare for summer!  \nTuition is $40 + $10 to the instructor for supplies. \nTuition includes wine/beverage
URL:https://breweryarts.org/event/20250530-peace-bracelet/
LOCATION:Brewery Arts Center | South Building | Pottery Studio\, 449 W KING ST\, CARSON CITY\, NV\, 89703\, United States
CATEGORIES:Art,Classes
ATTACH;FMTTYPE=image/jpeg:https://breweryarts.org/wp-content/uploads/2025/04/2025-PeaceBracelet-scaled.jpg
END:VEVENT
BEGIN:VEVENT
DTSTART;TZID=America/Los_Angeles:20250530T183000
DTEND;TZID=America/Los_Angeles:20250530T210000
DTSTAMP:20260419T173953
CREATED:20250408T191234Z
LAST-MODIFIED:20250408T191234Z
UID:10002528-1748629800-1748638800@breweryarts.org
SUMMARY:Adult Paint & Sip | Beach Time is Coming | May 30th 2025
DESCRIPTION:Enjoy a fun and easy acrylic painting class as you follow along with instructor Debbie Corona in a relaxed and friendly atmosphere. \nIncludes two complimentary beverages and all materials. \nPlease arrive through 2nd St entrance.
URL:https://breweryarts.org/event/20250530-ps-beach/
LOCATION:Brewery Arts Center | South Building | Painting Studio\, 449 W King St\, Carson City\, NV\, 89703\, United States
CATEGORIES:Classes
ATTACH;FMTTYPE=image/jpeg:https://breweryarts.org/wp-content/uploads/2025/04/Beach-Time-Is-Coming.jpg
END:VEVENT
BEGIN:VEVENT
DTSTART;TZID=America/Los_Angeles:20250603T130000
DTEND;TZID=America/Los_Angeles:20250603T143000
DTSTAMP:20260419T173953
CREATED:20250520T220433Z
LAST-MODIFIED:20250520T220433Z
UID:10002559-1748955600-1748961000@breweryarts.org
SUMMARY:Maggie M's Beginning Art Classes for Adults | Tuesdays | June 3rd 2025
DESCRIPTION:Classes will provide instruction in drawing\, sketching\, and painting with watercolors and acrylics. Classes will be taught every Tuesday. \nCome and join us!
URL:https://breweryarts.org/event/20250603-adult-art/
LOCATION:Brewery Arts Center | South Building | Painting Studio\, 449 W King St\, Carson City\, NV\, 89703\, United States
CATEGORIES:Art,Classes
ATTACH;FMTTYPE=image/jpeg:https://breweryarts.org/wp-content/uploads/2025/01/2025-MaggieMArtClassesAdults-1-1-scaled.jpg
END:VEVENT
BEGIN:VEVENT
DTSTART;TZID=America/Los_Angeles:20250603T153000
DTEND;TZID=America/Los_Angeles:20250603T170000
DTSTAMP:20260419T173953
CREATED:20250520T220603Z
LAST-MODIFIED:20250520T220603Z
UID:10002560-1748964600-1748970000@breweryarts.org
SUMMARY:After School Arts & Crafts with Maggie M | Tuesdays |  June 3rd 2025
DESCRIPTION:A weekly after school art and crafts class for kids 6 to 13. Join Maggie M in exploring different art experiences and learning to use different creative mediums.
URL:https://breweryarts.org/event/20250603-arts-crafts/
LOCATION:Brewery Arts Center | South Building | Painting Studio\, 449 W King St\, Carson City\, NV\, 89703\, United States
CATEGORIES:Classes
ATTACH;FMTTYPE=image/jpeg:https://breweryarts.org/wp-content/uploads/2025/01/2024AfterSchoolArtsCrafts.jpg
END:VEVENT
BEGIN:VEVENT
DTSTART;TZID=America/Los_Angeles:20250606T183000
DTEND;TZID=America/Los_Angeles:20250606T210000
DTSTAMP:20260419T173953
CREATED:20250410T221247Z
LAST-MODIFIED:20250410T221543Z
UID:10002531-1749234600-1749243600@breweryarts.org
SUMMARY:Adult Paint & Sip | Ode to O'Keeffe | June 6th 2025
DESCRIPTION:Enjoy a fun and easy acrylic painting class as you follow along with instructor Debbie Corona in a relaxed and friendly atmosphere. \nIncludes two complimentary beverages and all materials. \nPlease arrive through 2nd St entrance.
URL:https://breweryarts.org/event/20250606-ps-okeeffe/
LOCATION:Brewery Arts Center | South Building | Painting Studio\, 449 W King St\, Carson City\, NV\, 89703\, United States
CATEGORIES:Classes
ATTACH;FMTTYPE=image/jpeg:https://breweryarts.org/wp-content/uploads/2025/04/Ode-to-Okeeffe.jpg
END:VEVENT
BEGIN:VEVENT
DTSTART;TZID=America/Los_Angeles:20250610T130000
DTEND;TZID=America/Los_Angeles:20250610T143000
DTSTAMP:20260419T173953
CREATED:20250520T220739Z
LAST-MODIFIED:20250520T220739Z
UID:10002561-1749560400-1749565800@breweryarts.org
SUMMARY:Maggie M's Beginning Art Classes for Adults | Tuesdays | June 10th 2025
DESCRIPTION:Classes will provide instruction in drawing\, sketching\, and painting with watercolors and acrylics. Classes will be taught every Tuesday. \nCome and join us!
URL:https://breweryarts.org/event/20250610-adult-art/
LOCATION:Brewery Arts Center | South Building | Painting Studio\, 449 W King St\, Carson City\, NV\, 89703\, United States
CATEGORIES:Art,Classes
ATTACH;FMTTYPE=image/jpeg:https://breweryarts.org/wp-content/uploads/2025/01/2025-MaggieMArtClassesAdults-1-1-scaled.jpg
END:VEVENT
BEGIN:VEVENT
DTSTART;TZID=America/Los_Angeles:20250610T153000
DTEND;TZID=America/Los_Angeles:20250610T170000
DTSTAMP:20260419T173953
CREATED:20250520T220931Z
LAST-MODIFIED:20250521T212130Z
UID:10002562-1749569400-1749574800@breweryarts.org
SUMMARY:Kids Summertime Arts & Crafts with Maggie M | Tuesdays |  June 10th 2025
DESCRIPTION:A weekly art and crafts class for kids 6 to 13. Join Maggie M in exploring different art experiences and learning to use different creative mediums.
URL:https://breweryarts.org/event/20250610-arts-crafts/
LOCATION:Brewery Arts Center | South Building | Painting Studio\, 449 W King St\, Carson City\, NV\, 89703\, United States
CATEGORIES:Classes
ATTACH;FMTTYPE=image/jpeg:https://breweryarts.org/wp-content/uploads/2025/05/2025SummertimeArtsCrafts.jpg
END:VEVENT
BEGIN:VEVENT
DTSTART;TZID=America/Los_Angeles:20250613T183000
DTEND;TZID=America/Los_Angeles:20250613T210000
DTSTAMP:20260419T173953
CREATED:20250410T221514Z
LAST-MODIFIED:20250410T221514Z
UID:10002532-1749839400-1749848400@breweryarts.org
SUMMARY:Adult Paint & Sip | Father's Day | June 13th 2025
DESCRIPTION:Enjoy a fun and easy acrylic painting class as you follow along with instructor Debbie Corona in a relaxed and friendly atmosphere. \nIncludes two complimentary beverages and all materials. \nPlease arrive through 2nd St entrance.
URL:https://breweryarts.org/event/20250613-ps-father/
LOCATION:Brewery Arts Center | South Building | Painting Studio\, 449 W King St\, Carson City\, NV\, 89703\, United States
CATEGORIES:Classes
ATTACH;FMTTYPE=image/jpeg:https://breweryarts.org/wp-content/uploads/2025/04/Fathers-Day.jpg
END:VEVENT
BEGIN:VEVENT
DTSTART;TZID=America/Los_Angeles:20250617T130000
DTEND;TZID=America/Los_Angeles:20250617T143000
DTSTAMP:20260419T173953
CREATED:20250520T221223Z
LAST-MODIFIED:20250520T221223Z
UID:10002563-1750165200-1750170600@breweryarts.org
SUMMARY:Maggie M's Beginning Art Classes for Adults | Tuesdays | June 17th 2025
DESCRIPTION:Classes will provide instruction in drawing\, sketching\, and painting with watercolors and acrylics. Classes will be taught every Tuesday. \nCome and join us!
URL:https://breweryarts.org/event/20250617-adult-art/
LOCATION:Brewery Arts Center | South Building | Painting Studio\, 449 W King St\, Carson City\, NV\, 89703\, United States
CATEGORIES:Art,Classes
ATTACH;FMTTYPE=image/jpeg:https://breweryarts.org/wp-content/uploads/2025/01/2025-MaggieMArtClassesAdults-1-1-scaled.jpg
END:VEVENT
BEGIN:VEVENT
DTSTART;TZID=America/Los_Angeles:20250617T153000
DTEND;TZID=America/Los_Angeles:20250617T170000
DTSTAMP:20260419T173953
CREATED:20250520T221441Z
LAST-MODIFIED:20250521T175547Z
UID:10002564-1750174200-1750179600@breweryarts.org
SUMMARY:Kids Summertime Arts & Crafts with Maggie M | Tuesdays |  June 17th 2025
DESCRIPTION:A weekly arts & crafts class for kids 6 to 13. Join Maggie M in exploring different art experiences and learning to use different creative mediums.
URL:https://breweryarts.org/event/20250617-arts-crafts/
LOCATION:Brewery Arts Center | South Building | Painting Studio\, 449 W King St\, Carson City\, NV\, 89703\, United States
CATEGORIES:Classes
ATTACH;FMTTYPE=image/jpeg:https://breweryarts.org/wp-content/uploads/2025/05/2025SummertimeArtsCrafts.jpg
END:VEVENT
BEGIN:VEVENT
DTSTART;TZID=America/Los_Angeles:20250624T130000
DTEND;TZID=America/Los_Angeles:20250624T143000
DTSTAMP:20260419T173953
CREATED:20250520T221605Z
LAST-MODIFIED:20250520T221605Z
UID:10002565-1750770000-1750775400@breweryarts.org
SUMMARY:Maggie M's Beginning Art Classes for Adults | Tuesdays | June 24th 2025
DESCRIPTION:Classes will provide instruction in drawing\, sketching\, and painting with watercolors and acrylics. Classes will be taught every Tuesday. \nCome and join us!
URL:https://breweryarts.org/event/20250624-adult-art/
LOCATION:Brewery Arts Center | South Building | Painting Studio\, 449 W King St\, Carson City\, NV\, 89703\, United States
CATEGORIES:Art,Classes
ATTACH;FMTTYPE=image/jpeg:https://breweryarts.org/wp-content/uploads/2025/01/2025-MaggieMArtClassesAdults-1-1-scaled.jpg
END:VEVENT
BEGIN:VEVENT
DTSTART;TZID=America/Los_Angeles:20250624T153000
DTEND;TZID=America/Los_Angeles:20250624T170000
DTSTAMP:20260419T173953
CREATED:20250520T221750Z
LAST-MODIFIED:20250521T175349Z
UID:10002566-1750779000-1750784400@breweryarts.org
SUMMARY:Kids Summertime Arts & Crafts with Maggie M | Tuesdays |  June 24th 2025
DESCRIPTION:A weekly arts & crafts class for kids 6 to 13. Join Maggie M in exploring different art experiences and learning to use different creative mediums.
URL:https://breweryarts.org/event/20250624-arts-crafts/
LOCATION:Brewery Arts Center | South Building | Painting Studio\, 449 W King St\, Carson City\, NV\, 89703\, United States
CATEGORIES:Classes
ATTACH;FMTTYPE=image/jpeg:https://breweryarts.org/wp-content/uploads/2025/05/2025SummertimeArtsCrafts.jpg
END:VEVENT
BEGIN:VEVENT
DTSTART;TZID=America/Los_Angeles:20250701T130000
DTEND;TZID=America/Los_Angeles:20250701T143000
DTSTAMP:20260419T173953
CREATED:20250520T223557Z
LAST-MODIFIED:20250520T223557Z
UID:10002567-1751374800-1751380200@breweryarts.org
SUMMARY:Maggie M's Beginning Art Classes for Adults | Tuesdays | July 1st 2025
DESCRIPTION:Classes will provide instruction in drawing\, sketching\, and painting with watercolors and acrylics. Classes will be taught every Tuesday. \nCome and join us!
URL:https://breweryarts.org/event/20250701-adult-art/
LOCATION:Brewery Arts Center | South Building | Painting Studio\, 449 W King St\, Carson City\, NV\, 89703\, United States
CATEGORIES:Art,Classes
ATTACH;FMTTYPE=image/jpeg:https://breweryarts.org/wp-content/uploads/2025/01/2025-MaggieMArtClassesAdults-1-1-scaled.jpg
END:VEVENT
BEGIN:VEVENT
DTSTART;TZID=America/Los_Angeles:20250701T153000
DTEND;TZID=America/Los_Angeles:20250701T170000
DTSTAMP:20260419T173953
CREATED:20250520T223805Z
LAST-MODIFIED:20250521T175221Z
UID:10002568-1751383800-1751389200@breweryarts.org
SUMMARY:Kids Summertime Arts & Crafts with Maggie M | Tuesdays |  July 1st 2025
DESCRIPTION:A weekly arts & crafts class for kids 6 to 13. Join Maggie M in exploring different art experiences and learning to use different creative mediums.
URL:https://breweryarts.org/event/20250701-arts-crafts/
LOCATION:Brewery Arts Center | South Building | Painting Studio\, 449 W King St\, Carson City\, NV\, 89703\, United States
CATEGORIES:Classes
ATTACH;FMTTYPE=image/jpeg:https://breweryarts.org/wp-content/uploads/2025/05/2025SummertimeArtsCrafts.jpg
END:VEVENT
BEGIN:VEVENT
DTSTART;TZID=America/Los_Angeles:20250708T130000
DTEND;TZID=America/Los_Angeles:20250708T143000
DTSTAMP:20260419T173953
CREATED:20250520T224026Z
LAST-MODIFIED:20250520T224026Z
UID:10002569-1751979600-1751985000@breweryarts.org
SUMMARY:Maggie M's Beginning Art Classes for Adults | Tuesdays | July 8th 2025
DESCRIPTION:Classes will provide instruction in drawing\, sketching\, and painting with watercolors and acrylics. Classes will be taught every Tuesday. \nCome and join us!
URL:https://breweryarts.org/event/20250708-adult-art/
LOCATION:Brewery Arts Center | South Building | Painting Studio\, 449 W King St\, Carson City\, NV\, 89703\, United States
CATEGORIES:Art,Classes
ATTACH;FMTTYPE=image/jpeg:https://breweryarts.org/wp-content/uploads/2025/01/2025-MaggieMArtClassesAdults-1-1-scaled.jpg
END:VEVENT
BEGIN:VEVENT
DTSTART;TZID=America/Los_Angeles:20250708T153000
DTEND;TZID=America/Los_Angeles:20250708T170000
DTSTAMP:20260419T173953
CREATED:20250520T224205Z
LAST-MODIFIED:20250521T175116Z
UID:10002570-1751988600-1751994000@breweryarts.org
SUMMARY:Kids Summertime Arts & Crafts with Maggie M | Tuesdays |  July 8th 2025
DESCRIPTION:A weekly arts & crafts class for kids 6 to 13. Join Maggie M in exploring different art experiences and learning to use different creative mediums.
URL:https://breweryarts.org/event/20250708-arts-crafts/
LOCATION:Brewery Arts Center | South Building | Painting Studio\, 449 W King St\, Carson City\, NV\, 89703\, United States
CATEGORIES:Classes
ATTACH;FMTTYPE=image/jpeg:https://breweryarts.org/wp-content/uploads/2025/05/2025SummertimeArtsCrafts.jpg
END:VEVENT
BEGIN:VEVENT
DTSTART;TZID=America/Los_Angeles:20250715T130000
DTEND;TZID=America/Los_Angeles:20250715T143000
DTSTAMP:20260419T173953
CREATED:20250708T204516Z
LAST-MODIFIED:20250708T204516Z
UID:10002594-1752584400-1752589800@breweryarts.org
SUMMARY:Maggie M's Beginning Art Classes for Adults | Tuesdays | July 15th 2025
DESCRIPTION:Classes will provide instruction in drawing\, sketching\, and painting with watercolors and acrylics. Classes will be taught every Tuesday. \nCome and join us!
URL:https://breweryarts.org/event/20250715-adult-art/
LOCATION:Brewery Arts Center | South Building | Painting Studio\, 449 W King St\, Carson City\, NV\, 89703\, United States
CATEGORIES:Art,Classes
ATTACH;FMTTYPE=image/jpeg:https://breweryarts.org/wp-content/uploads/2025/01/2025-MaggieMArtClassesAdults-1-1-scaled.jpg
END:VEVENT
BEGIN:VEVENT
DTSTART;TZID=America/Los_Angeles:20250715T153000
DTEND;TZID=America/Los_Angeles:20250715T170000
DTSTAMP:20260419T173953
CREATED:20250708T204909Z
LAST-MODIFIED:20250708T204909Z
UID:10002597-1752593400-1752598800@breweryarts.org
SUMMARY:Kids Summertime Arts & Crafts with Maggie M | Tuesdays |  July 15th 2025
DESCRIPTION:A weekly arts & crafts class for kids 6 to 13. Join Maggie M in exploring different art experiences and learning to use different creative mediums.
URL:https://breweryarts.org/event/20250715-arts-and-crafts/
LOCATION:Brewery Arts Center | South Building | Painting Studio\, 449 W King St\, Carson City\, NV\, 89703\, United States
CATEGORIES:Classes
ATTACH;FMTTYPE=image/jpeg:https://breweryarts.org/wp-content/uploads/2025/05/2025SummertimeArtsCrafts.jpg
END:VEVENT
BEGIN:VEVENT
DTSTART;TZID=America/Los_Angeles:20250722T130000
DTEND;TZID=America/Los_Angeles:20250722T143000
DTSTAMP:20260419T173953
CREATED:20250708T204642Z
LAST-MODIFIED:20250708T204642Z
UID:10002595-1753189200-1753194600@breweryarts.org
SUMMARY:Maggie M's Beginning Art Classes for Adults | Tuesdays | July 22nd 2025
DESCRIPTION:Classes will provide instruction in drawing\, sketching\, and painting with watercolors and acrylics. Classes will be taught every Tuesday. \nCome and join us!
URL:https://breweryarts.org/event/20250722-adult-art/
LOCATION:Brewery Arts Center | South Building | Painting Studio\, 449 W King St\, Carson City\, NV\, 89703\, United States
CATEGORIES:Art,Classes
ATTACH;FMTTYPE=image/jpeg:https://breweryarts.org/wp-content/uploads/2025/01/2025-MaggieMArtClassesAdults-1-1-scaled.jpg
END:VEVENT
BEGIN:VEVENT
DTSTART;TZID=America/Los_Angeles:20250722T153000
DTEND;TZID=America/Los_Angeles:20250722T170000
DTSTAMP:20260419T173953
CREATED:20250708T205026Z
LAST-MODIFIED:20250708T205026Z
UID:10002598-1753198200-1753203600@breweryarts.org
SUMMARY:Kids Summertime Arts & Crafts with Maggie M | Tuesdays |  July 22nd 2025
DESCRIPTION:A weekly arts & crafts class for kids 6 to 13. Join Maggie M in exploring different art experiences and learning to use different creative mediums.
URL:https://breweryarts.org/event/20250722-arts-and-crafts/
LOCATION:Brewery Arts Center | South Building | Painting Studio\, 449 W King St\, Carson City\, NV\, 89703\, United States
CATEGORIES:Classes
ATTACH;FMTTYPE=image/jpeg:https://breweryarts.org/wp-content/uploads/2025/05/2025SummertimeArtsCrafts.jpg
END:VEVENT
BEGIN:VEVENT
DTSTART;TZID=America/Los_Angeles:20250729T130000
DTEND;TZID=America/Los_Angeles:20250729T143000
DTSTAMP:20260419T173953
CREATED:20250708T204752Z
LAST-MODIFIED:20250708T204752Z
UID:10002596-1753794000-1753799400@breweryarts.org
SUMMARY:Maggie M's Beginning Art Classes for Adults | Tuesdays | July 29th 2025
DESCRIPTION:Classes will provide instruction in drawing\, sketching\, and painting with watercolors and acrylics. Classes will be taught every Tuesday. \nCome and join us!
URL:https://breweryarts.org/event/20250729-adult-art/
LOCATION:Brewery Arts Center | South Building | Painting Studio\, 449 W King St\, Carson City\, NV\, 89703\, United States
CATEGORIES:Art,Classes
ATTACH;FMTTYPE=image/jpeg:https://breweryarts.org/wp-content/uploads/2025/01/2025-MaggieMArtClassesAdults-1-1-scaled.jpg
END:VEVENT
BEGIN:VEVENT
DTSTART;TZID=America/Los_Angeles:20250729T153000
DTEND;TZID=America/Los_Angeles:20250729T170000
DTSTAMP:20260419T173953
CREATED:20250708T205151Z
LAST-MODIFIED:20250708T205151Z
UID:10002599-1753803000-1753808400@breweryarts.org
SUMMARY:Kids Summertime Arts & Crafts with Maggie M | Tuesdays |  July 29th 2025
DESCRIPTION:A weekly arts & crafts class for kids 6 to 13. Join Maggie M in exploring different art experiences and learning to use different creative mediums.
URL:https://breweryarts.org/event/20250729-arts-and-crafts/
LOCATION:Brewery Arts Center | South Building | Painting Studio\, 449 W King St\, Carson City\, NV\, 89703\, United States
CATEGORIES:Classes
ATTACH;FMTTYPE=image/jpeg:https://breweryarts.org/wp-content/uploads/2025/05/2025SummertimeArtsCrafts.jpg
END:VEVENT
BEGIN:VEVENT
DTSTART;TZID=America/Los_Angeles:20250805T130000
DTEND;TZID=America/Los_Angeles:20250805T143000
DTSTAMP:20260419T173953
CREATED:20250715T232549Z
LAST-MODIFIED:20250715T232549Z
UID:10002600-1754398800-1754404200@breweryarts.org
SUMMARY:Maggie M's Beginning Art Classes for Adults | Tuesdays | August 5th 2025
DESCRIPTION:Classes will provide instruction in drawing\, sketching\, and painting with watercolors and acrylics. Classes will be taught every Tuesday. \nCome and join us!
URL:https://breweryarts.org/event/20250805-adult-art/
LOCATION:Brewery Arts Center | South Building | Painting Studio\, 449 W King St\, Carson City\, NV\, 89703\, United States
CATEGORIES:Art,Classes
ATTACH;FMTTYPE=image/jpeg:https://breweryarts.org/wp-content/uploads/2025/01/2025-MaggieMArtClassesAdults-1-1-scaled.jpg
END:VEVENT
BEGIN:VEVENT
DTSTART;TZID=America/Los_Angeles:20250805T153000
DTEND;TZID=America/Los_Angeles:20250805T170000
DTSTAMP:20260419T173953
CREATED:20250715T232732Z
LAST-MODIFIED:20250715T232732Z
UID:10002601-1754407800-1754413200@breweryarts.org
SUMMARY:Kids Summertime Arts & Crafts with Maggie M | Tuesdays |  August 5th 2025
DESCRIPTION:A weekly arts & crafts class for kids 6 to 13. Join Maggie M in exploring different art experiences and learning to use different creative mediums.
URL:https://breweryarts.org/event/20250805-arts-crafts/
LOCATION:Brewery Arts Center | South Building | Painting Studio\, 449 W King St\, Carson City\, NV\, 89703\, United States
CATEGORIES:Classes
ATTACH;FMTTYPE=image/jpeg:https://breweryarts.org/wp-content/uploads/2025/05/2025SummertimeArtsCrafts.jpg
END:VEVENT
BEGIN:VEVENT
DTSTART;TZID=America/Los_Angeles:20250808T183000
DTEND;TZID=America/Los_Angeles:20250808T210000
DTSTAMP:20260419T173953
CREATED:20250521T170318Z
LAST-MODIFIED:20250808T182708Z
UID:10002572-1754677800-1754686800@breweryarts.org
SUMMARY:Adult Paint & Sip | No Escape | August 8th 2025
DESCRIPTION:Enjoy a fun and easy acrylic painting class as you follow along with instructor Debbie Corona in a relaxed and friendly atmosphere. \nIncludes two complimentary beverages and all materials. \nPlease arrive through 2nd St entrance.
URL:https://breweryarts.org/event/20250808-ps-escape/
LOCATION:Brewery Arts Center | South Building | Painting Studio\, 449 W King St\, Carson City\, NV\, 89703\, United States
CATEGORIES:Classes
ATTACH;FMTTYPE=image/jpeg:https://breweryarts.org/wp-content/uploads/2025/05/No-Escape.jpg
END:VEVENT
BEGIN:VEVENT
DTSTART;TZID=America/Los_Angeles:20250812T130000
DTEND;TZID=America/Los_Angeles:20250812T143000
DTSTAMP:20260419T173953
CREATED:20250715T232852Z
LAST-MODIFIED:20250715T232852Z
UID:10002602-1755003600-1755009000@breweryarts.org
SUMMARY:Maggie M's Beginning Art Classes for Adults | Tuesdays | August 12th 2025
DESCRIPTION:Classes will provide instruction in drawing\, sketching\, and painting with watercolors and acrylics. Classes will be taught every Tuesday. \nCome and join us!
URL:https://breweryarts.org/event/20250812-adult-art/
LOCATION:Brewery Arts Center | South Building | Painting Studio\, 449 W King St\, Carson City\, NV\, 89703\, United States
CATEGORIES:Art,Classes
ATTACH;FMTTYPE=image/jpeg:https://breweryarts.org/wp-content/uploads/2025/01/2025-MaggieMArtClassesAdults-1-1-scaled.jpg
END:VEVENT
BEGIN:VEVENT
DTSTART;TZID=America/Los_Angeles:20250812T153000
DTEND;TZID=America/Los_Angeles:20250812T170000
DTSTAMP:20260419T173953
CREATED:20250715T233020Z
LAST-MODIFIED:20250715T233020Z
UID:10002603-1755012600-1755018000@breweryarts.org
SUMMARY:Kids Summertime Arts & Crafts with Maggie M | Tuesdays |  August 12th 2025
DESCRIPTION:A weekly arts & crafts class for kids 6 to 13. Join Maggie M in exploring different art experiences and learning to use different creative mediums.
URL:https://breweryarts.org/event/20250812-arts-crafts/
LOCATION:Brewery Arts Center | South Building | Painting Studio\, 449 W King St\, Carson City\, NV\, 89703\, United States
CATEGORIES:Classes
ATTACH;FMTTYPE=image/jpeg:https://breweryarts.org/wp-content/uploads/2025/05/2025SummertimeArtsCrafts.jpg
END:VEVENT
BEGIN:VEVENT
DTSTART;TZID=America/Los_Angeles:20250815T183000
DTEND;TZID=America/Los_Angeles:20250815T210000
DTSTAMP:20260419T173953
CREATED:20250521T170739Z
LAST-MODIFIED:20250521T170739Z
UID:10002573-1755282600-1755291600@breweryarts.org
SUMMARY:Adult Paint & Sip | Desert Scene | August 15th 2025
DESCRIPTION:Enjoy a fun and easy acrylic painting class as you follow along with instructor Debbie Corona in a relaxed and friendly atmosphere. \nIncludes two complimentary beverages and all materials. \nPlease arrive through 2nd St entrance.
URL:https://breweryarts.org/event/20250815-ps-desert/
LOCATION:Brewery Arts Center | South Building | Painting Studio\, 449 W King St\, Carson City\, NV\, 89703\, United States
CATEGORIES:Classes
ATTACH;FMTTYPE=image/jpeg:https://breweryarts.org/wp-content/uploads/2025/05/Desert-Scene.jpg
END:VEVENT
BEGIN:VEVENT
DTSTART;TZID=America/Los_Angeles:20250819T130000
DTEND;TZID=America/Los_Angeles:20250819T143000
DTSTAMP:20260419T173953
CREATED:20250715T233224Z
LAST-MODIFIED:20250715T233224Z
UID:10002604-1755608400-1755613800@breweryarts.org
SUMMARY:Maggie M's Beginning Art Classes for Adults | Tuesdays | August 19th 2025
DESCRIPTION:Classes will provide instruction in drawing\, sketching\, and painting with watercolors and acrylics. Classes will be taught every Tuesday. \nCome and join us!
URL:https://breweryarts.org/event/20250819-adult-art/
LOCATION:Brewery Arts Center | South Building | Painting Studio\, 449 W King St\, Carson City\, NV\, 89703\, United States
CATEGORIES:Art,Classes
ATTACH;FMTTYPE=image/jpeg:https://breweryarts.org/wp-content/uploads/2025/01/2025-MaggieMArtClassesAdults-1-1-scaled.jpg
END:VEVENT
END:VCALENDAR