BEGIN:VCALENDAR
VERSION:2.0
PRODID:-//Brewery Arts Center - ECPv6.15.9//NONSGML v1.0//EN
CALSCALE:GREGORIAN
METHOD:PUBLISH
X-ORIGINAL-URL:https://breweryarts.org
X-WR-CALDESC:Events for Brewery Arts Center
REFRESH-INTERVAL;VALUE=DURATION:PT1H
X-Robots-Tag:noindex
X-PUBLISHED-TTL:PT1H
BEGIN:VTIMEZONE
TZID:America/Los_Angeles
BEGIN:DAYLIGHT
TZOFFSETFROM:-0800
TZOFFSETTO:-0700
TZNAME:PDT
DTSTART:20240310T100000
END:DAYLIGHT
BEGIN:STANDARD
TZOFFSETFROM:-0700
TZOFFSETTO:-0800
TZNAME:PST
DTSTART:20241103T090000
END:STANDARD
BEGIN:DAYLIGHT
TZOFFSETFROM:-0800
TZOFFSETTO:-0700
TZNAME:PDT
DTSTART:20250309T100000
END:DAYLIGHT
BEGIN:STANDARD
TZOFFSETFROM:-0700
TZOFFSETTO:-0800
TZNAME:PST
DTSTART:20251102T090000
END:STANDARD
BEGIN:DAYLIGHT
TZOFFSETFROM:-0800
TZOFFSETTO:-0700
TZNAME:PDT
DTSTART:20260308T100000
END:DAYLIGHT
BEGIN:STANDARD
TZOFFSETFROM:-0700
TZOFFSETTO:-0800
TZNAME:PST
DTSTART:20261101T090000
END:STANDARD
END:VTIMEZONE
BEGIN:VEVENT
DTSTART;TZID=America/Los_Angeles:20250408T153000
DTEND;TZID=America/Los_Angeles:20250408T170000
DTSTAMP:20260419T155217
CREATED:20250312T172400Z
LAST-MODIFIED:20250312T172400Z
UID:10002490-1744126200-1744131600@breweryarts.org
SUMMARY:After School Arts & Crafts with Maggie M | Tuesdays | April 8th 2025
DESCRIPTION:A weekly after school art and crafts class for kids 6 to 13. Join Maggie M in exploring different art experiences and learning to use different creative mediums.
URL:https://breweryarts.org/event/20250408-after-school-art/
LOCATION:Brewery Arts Center | South Building | Painting Studio\, 449 W King St\, Carson City\, NV\, 89703\, United States
CATEGORIES:Classes
ATTACH;FMTTYPE=image/jpeg:https://breweryarts.org/wp-content/uploads/2025/01/2024AfterSchoolArtsCrafts.jpg
END:VEVENT
BEGIN:VEVENT
DTSTART;TZID=America/Los_Angeles:20250409T183000
DTEND;TZID=America/Los_Angeles:20250409T203000
DTSTAMP:20260419T155217
CREATED:20250326T171502Z
LAST-MODIFIED:20250326T171502Z
UID:10002509-1744223400-1744230600@breweryarts.org
SUMMARY:PPI Presents Improv @ the BAC | Every Wednesday | April 9th 2025
DESCRIPTION:Learn the basics of improv and play games. Free to the public. \nQuestions? Email us @ ppicommunitytheater@gmail.com \n 
URL:https://breweryarts.org/event/20250409-improv/
LOCATION:NAA Gallery Lobby\, 449 West King Street\, Carson City\, NV\, 89703\, United States
CATEGORIES:Classes,Theater
ATTACH;FMTTYPE=image/jpeg:https://breweryarts.org/wp-content/uploads/2024/07/2024-ImprovClasses-2-scaled.jpg
END:VEVENT
BEGIN:VEVENT
DTSTART;TZID=America/Los_Angeles:20250411T183000
DTEND;TZID=America/Los_Angeles:20250411T210000
DTSTAMP:20260419T155217
CREATED:20250107T202505Z
LAST-MODIFIED:20250107T202505Z
UID:10002233-1744396200-1744405200@breweryarts.org
SUMMARY:Adult Paint & Sip | Twilight Tulips | April 11th 2025
DESCRIPTION:Enjoy a fun and easy acrylic painting class as you follow along with instructor Debbie Corona in a relaxed and friendly atmosphere. \nIncludes two complimentary beverages and all materials. \nPlease arrive through 2nd St entrance.
URL:https://breweryarts.org/event/20250411-ps-tulips/
LOCATION:Brewery Arts Center | South Building | Painting Studio\, 449 W King St\, Carson City\, NV\, 89703\, United States
CATEGORIES:Classes
ATTACH;FMTTYPE=image/jpeg:https://breweryarts.org/wp-content/uploads/2025/01/Twilight-Tulip.jpg
END:VEVENT
BEGIN:VEVENT
DTSTART;TZID=America/Los_Angeles:20250415T130000
DTEND;TZID=America/Los_Angeles:20250415T143000
DTSTAMP:20260419T155217
CREATED:20250312T172535Z
LAST-MODIFIED:20250312T172535Z
UID:10002491-1744722000-1744727400@breweryarts.org
SUMMARY:Maggie M's Beginning Art Classes for Adults | Tuesdays | April 15th 2025
DESCRIPTION:Classes will provide instruction in drawing\, sketching\, and painting with watercolors and acrylics. Classes will be taught every Tuesday. \nCome and join us!
URL:https://breweryarts.org/event/20250415-adult-art/
LOCATION:Brewery Arts Center | South Building | Painting Studio\, 449 W King St\, Carson City\, NV\, 89703\, United States
CATEGORIES:Art,Classes
ATTACH;FMTTYPE=image/jpeg:https://breweryarts.org/wp-content/uploads/2025/01/2025-MaggieMArtClassesAdults-1-1-scaled.jpg
END:VEVENT
BEGIN:VEVENT
DTSTART;TZID=America/Los_Angeles:20250415T153000
DTEND;TZID=America/Los_Angeles:20250415T170000
DTSTAMP:20260419T155217
CREATED:20250312T172721Z
LAST-MODIFIED:20250312T172721Z
UID:10002492-1744731000-1744736400@breweryarts.org
SUMMARY:After School Arts & Crafts with Maggie M | Tuesdays |  April 15th 2025
DESCRIPTION:A weekly after school art and crafts class for kids 6 to 13. Join Maggie M in exploring different art experiences and learning to use different creative mediums.
URL:https://breweryarts.org/event/20250415-after-school-art/
LOCATION:Brewery Arts Center | South Building | Painting Studio\, 449 W King St\, Carson City\, NV\, 89703\, United States
CATEGORIES:Classes
ATTACH;FMTTYPE=image/jpeg:https://breweryarts.org/wp-content/uploads/2025/01/2024AfterSchoolArtsCrafts.jpg
END:VEVENT
BEGIN:VEVENT
DTSTART;TZID=America/Los_Angeles:20250416T183000
DTEND;TZID=America/Los_Angeles:20250416T203000
DTSTAMP:20260419T155217
CREATED:20250326T171628Z
LAST-MODIFIED:20250326T171628Z
UID:10002510-1744828200-1744835400@breweryarts.org
SUMMARY:PPI Presents Improv @ the BAC | Every Wednesday | April 16th 2025
DESCRIPTION:Learn the basics of improv and play games. Free to the public. \nQuestions? Email us @ ppicommunitytheater@gmail.com \n 
URL:https://breweryarts.org/event/20250416-improv/
LOCATION:NAA Gallery Lobby\, 449 West King Street\, Carson City\, NV\, 89703\, United States
CATEGORIES:Classes,Theater
ATTACH;FMTTYPE=image/jpeg:https://breweryarts.org/wp-content/uploads/2024/07/2024-ImprovClasses-2-scaled.jpg
END:VEVENT
BEGIN:VEVENT
DTSTART;TZID=America/Los_Angeles:20250418T183000
DTEND;TZID=America/Los_Angeles:20250418T210000
DTSTAMP:20260419T155217
CREATED:20250107T202933Z
LAST-MODIFIED:20250114T181624Z
UID:10002234-1745001000-1745010000@breweryarts.org
SUMMARY:Adult Paint & Sip | April Showers May Flowers | April 18th 2025
DESCRIPTION:Enjoy a fun and easy acrylic painting class as you follow along with instructor Debbie Corona in a relaxed and friendly atmosphere. \nIncludes two complimentary beverages and all materials. \nPlease arrive through 2nd St entrance.
URL:https://breweryarts.org/event/20250418-ps-showers/
LOCATION:Brewery Arts Center | South Building | Painting Studio\, 449 W King St\, Carson City\, NV\, 89703\, United States
CATEGORIES:Classes
ATTACH;FMTTYPE=image/jpeg:https://breweryarts.org/wp-content/uploads/2025/01/April-Showers-May-Flowers.jpg
END:VEVENT
BEGIN:VEVENT
DTSTART;TZID=America/Los_Angeles:20250422T130000
DTEND;TZID=America/Los_Angeles:20250422T143000
DTSTAMP:20260419T155217
CREATED:20250312T172854Z
LAST-MODIFIED:20250312T172854Z
UID:10002493-1745326800-1745332200@breweryarts.org
SUMMARY:Maggie M's Beginning Art Classes for Adults | Tuesdays |  April 22nd 2025
DESCRIPTION:Classes will provide instruction in drawing\, sketching\, and painting with watercolors and acrylics. Classes will be taught every Tuesday. \nCome and join us!
URL:https://breweryarts.org/event/20250422-adult-art/
LOCATION:Brewery Arts Center | South Building | Painting Studio\, 449 W King St\, Carson City\, NV\, 89703\, United States
CATEGORIES:Art,Classes
ATTACH;FMTTYPE=image/jpeg:https://breweryarts.org/wp-content/uploads/2025/01/2025-MaggieMArtClassesAdults-1-1-scaled.jpg
END:VEVENT
BEGIN:VEVENT
DTSTART;TZID=America/Los_Angeles:20250422T153000
DTEND;TZID=America/Los_Angeles:20250422T170000
DTSTAMP:20260419T155217
CREATED:20250312T173022Z
LAST-MODIFIED:20250312T173022Z
UID:10002494-1745335800-1745341200@breweryarts.org
SUMMARY:After School Arts & Crafts with Maggie M | Tuesdays | April 22nd 2025
DESCRIPTION:A weekly after school art and crafts class for kids 6 to 13. Join Maggie M in exploring different art experiences and learning to use different creative mediums.
URL:https://breweryarts.org/event/20250422-after-school-art/
LOCATION:Brewery Arts Center | South Building | Painting Studio\, 449 W King St\, Carson City\, NV\, 89703\, United States
CATEGORIES:Classes
ATTACH;FMTTYPE=image/jpeg:https://breweryarts.org/wp-content/uploads/2025/01/2024AfterSchoolArtsCrafts.jpg
END:VEVENT
BEGIN:VEVENT
DTSTART;TZID=America/Los_Angeles:20250423T183000
DTEND;TZID=America/Los_Angeles:20250423T203000
DTSTAMP:20260419T155217
CREATED:20250326T171729Z
LAST-MODIFIED:20250326T171729Z
UID:10002511-1745433000-1745440200@breweryarts.org
SUMMARY:PPI Presents Improv @ the BAC | Every Wednesday | April 23rd 2025
DESCRIPTION:Learn the basics of improv and play games. Free to the public. \nQuestions? Email us @ ppicommunitytheater@gmail.com \n 
URL:https://breweryarts.org/event/20250423-improv/
LOCATION:NAA Gallery Lobby\, 449 West King Street\, Carson City\, NV\, 89703\, United States
CATEGORIES:Classes,Theater
ATTACH;FMTTYPE=image/jpeg:https://breweryarts.org/wp-content/uploads/2024/07/2024-ImprovClasses-2-scaled.jpg
END:VEVENT
BEGIN:VEVENT
DTSTART;TZID=America/Los_Angeles:20250425T183000
DTEND;TZID=America/Los_Angeles:20250425T210000
DTSTAMP:20260419T155217
CREATED:20250107T203210Z
LAST-MODIFIED:20250425T170807Z
UID:10002235-1745605800-1745614800@breweryarts.org
SUMMARY:Adult Paint & Sip | Cliff Tree | April 25th 2025
DESCRIPTION:Enjoy a fun and easy acrylic painting class as you follow along with instructor Debbie Corona in a relaxed and friendly atmosphere. \nIncludes two complimentary beverages and all materials. \nPlease arrive through 2nd St entrance.
URL:https://breweryarts.org/event/20250425-ps-cliff/
LOCATION:Brewery Arts Center | South Building | Painting Studio\, 449 W King St\, Carson City\, NV\, 89703\, United States
CATEGORIES:Classes
ATTACH;FMTTYPE=image/jpeg:https://breweryarts.org/wp-content/uploads/2025/01/Cliff-Tree.jpg
END:VEVENT
BEGIN:VEVENT
DTSTART;TZID=America/Los_Angeles:20250429T130000
DTEND;TZID=America/Los_Angeles:20250429T143000
DTSTAMP:20260419T155217
CREATED:20250312T173157Z
LAST-MODIFIED:20250312T173157Z
UID:10002495-1745931600-1745937000@breweryarts.org
SUMMARY:Maggie M's Beginning Art Classes for Adults | Tuesdays | April 29th 2025
DESCRIPTION:Classes will provide instruction in drawing\, sketching\, and painting with watercolors and acrylics. Classes will be taught every Tuesday. \nCome and join us!
URL:https://breweryarts.org/event/20250429-adult-art/
LOCATION:Brewery Arts Center | South Building | Painting Studio\, 449 W King St\, Carson City\, NV\, 89703\, United States
CATEGORIES:Art,Classes
ATTACH;FMTTYPE=image/jpeg:https://breweryarts.org/wp-content/uploads/2025/01/2025-MaggieMArtClassesAdults-1-1-scaled.jpg
END:VEVENT
BEGIN:VEVENT
DTSTART;TZID=America/Los_Angeles:20250429T153000
DTEND;TZID=America/Los_Angeles:20250429T170000
DTSTAMP:20260419T155217
CREATED:20250312T173402Z
LAST-MODIFIED:20250312T173402Z
UID:10002496-1745940600-1745946000@breweryarts.org
SUMMARY:After School Arts & Crafts with Maggie M | Tuesdays |  April 29th 2025
DESCRIPTION:A weekly after school art and crafts class for kids 6 to 13. Join Maggie M in exploring different art experiences and learning to use different creative mediums.
URL:https://breweryarts.org/event/20250429-after-school-art/
LOCATION:Brewery Arts Center | South Building | Painting Studio\, 449 W King St\, Carson City\, NV\, 89703\, United States
CATEGORIES:Classes
ATTACH;FMTTYPE=image/jpeg:https://breweryarts.org/wp-content/uploads/2025/01/2024AfterSchoolArtsCrafts.jpg
END:VEVENT
BEGIN:VEVENT
DTSTART;TZID=America/Los_Angeles:20250430T183000
DTEND;TZID=America/Los_Angeles:20250430T203000
DTSTAMP:20260419T155217
CREATED:20250326T171835Z
LAST-MODIFIED:20250410T222140Z
UID:10002512-1746037800-1746045000@breweryarts.org
SUMMARY:LAST CALL (for now) PPI Presents Improv @ the BAC | Wednesday | April 30th 2025
DESCRIPTION:Learn the basics of improv and play games. Free to the public. \nQuestions? Email us @ ppicommunitytheater@gmail.com \n 
URL:https://breweryarts.org/event/20250430-improv/
LOCATION:NAA Gallery Lobby\, 449 West King Street\, Carson City\, NV\, 89703\, United States
CATEGORIES:Classes,Theater
ATTACH;FMTTYPE=image/jpeg:https://breweryarts.org/wp-content/uploads/2024/07/2024-ImprovClasses-2-scaled.jpg
END:VEVENT
BEGIN:VEVENT
DTSTART;TZID=America/Los_Angeles:20250502T183000
DTEND;TZID=America/Los_Angeles:20250502T210000
DTSTAMP:20260419T155217
CREATED:20250408T182156Z
LAST-MODIFIED:20250408T182156Z
UID:10002524-1746210600-1746219600@breweryarts.org
SUMMARY:Adult Paint & Sip | Cinco de Mayo | May 2nd 2025
DESCRIPTION:Enjoy a fun and easy acrylic painting class as you follow along with instructor Debbie Corona in a relaxed and friendly atmosphere. \nIncludes two complimentary beverages and all materials. \nPlease arrive through 2nd St entrance.
URL:https://breweryarts.org/event/20250502-ps-cinco/
LOCATION:Brewery Arts Center | South Building | Painting Studio\, 449 W King St\, Carson City\, NV\, 89703\, United States
CATEGORIES:Classes
ATTACH;FMTTYPE=image/jpeg:https://breweryarts.org/wp-content/uploads/2025/04/Cinco-de-Mayo.jpg
END:VEVENT
BEGIN:VEVENT
DTSTART;TZID=America/Los_Angeles:20250506T130000
DTEND;TZID=America/Los_Angeles:20250506T143000
DTSTAMP:20260419T155217
CREATED:20250418T173949Z
LAST-MODIFIED:20250418T173949Z
UID:10002536-1746536400-1746541800@breweryarts.org
SUMMARY:Maggie M's Beginning Art Classes for Adults | Tuesdays | May 6th 2025
DESCRIPTION:Classes will provide instruction in drawing\, sketching\, and painting with watercolors and acrylics. Classes will be taught every Tuesday. \nCome and join us!
URL:https://breweryarts.org/event/20250506-adult-art/
LOCATION:Brewery Arts Center | South Building | Painting Studio\, 449 W King St\, Carson City\, NV\, 89703\, United States
CATEGORIES:Art,Classes
ATTACH;FMTTYPE=image/jpeg:https://breweryarts.org/wp-content/uploads/2025/01/2025-MaggieMArtClassesAdults-1-1-scaled.jpg
END:VEVENT
BEGIN:VEVENT
DTSTART;TZID=America/Los_Angeles:20250506T153000
DTEND;TZID=America/Los_Angeles:20250506T170000
DTSTAMP:20260419T155217
CREATED:20250418T174149Z
LAST-MODIFIED:20250418T174149Z
UID:10002537-1746545400-1746550800@breweryarts.org
SUMMARY:After School Arts & Crafts with Maggie M | Tuesdays |  May 6th 2025
DESCRIPTION:A weekly after school art and crafts class for kids 6 to 13. Join Maggie M in exploring different art experiences and learning to use different creative mediums.
URL:https://breweryarts.org/event/20250506-arts-crafts/
LOCATION:Brewery Arts Center | South Building | Painting Studio\, 449 W King St\, Carson City\, NV\, 89703\, United States
CATEGORIES:Classes
ATTACH;FMTTYPE=image/jpeg:https://breweryarts.org/wp-content/uploads/2025/01/2024AfterSchoolArtsCrafts.jpg
END:VEVENT
BEGIN:VEVENT
DTSTART;TZID=America/Los_Angeles:20250509T183000
DTEND;TZID=America/Los_Angeles:20250509T210000
DTSTAMP:20260419T155217
CREATED:20250408T182518Z
LAST-MODIFIED:20250408T185703Z
UID:10002525-1746815400-1746824400@breweryarts.org
SUMMARY:Adult Paint & Sip | Pink Boots | May 9th 2025
DESCRIPTION:Enjoy a fun and easy acrylic painting class as you follow along with instructor Debbie Corona in a relaxed and friendly atmosphere. \nIncludes two complimentary beverages and all materials. \nPlease arrive through 2nd St entrance.
URL:https://breweryarts.org/event/20250509-ps-boots/
LOCATION:Brewery Arts Center | South Building | Painting Studio\, 449 W King St\, Carson City\, NV\, 89703\, United States
CATEGORIES:Classes
ATTACH;FMTTYPE=image/jpeg:https://breweryarts.org/wp-content/uploads/2025/04/Pink-Boots.jpg
END:VEVENT
BEGIN:VEVENT
DTSTART;TZID=America/Los_Angeles:20250510T110000
DTEND;TZID=America/Los_Angeles:20250510T130000
DTSTAMP:20260419T155217
CREATED:20250415T191935Z
LAST-MODIFIED:20250418T165213Z
UID:10002535-1746874800-1746882000@breweryarts.org
SUMMARY:Mother's Day Tree of Life Pendant Class | Saturday | May 10th 2025
DESCRIPTION:Jewelry artist\, Kym Maehl\, will guide you through this perfect Mother’s Day Saturday class\, the Tree of Life pendant.  The Tree of Life is an archetypal symbol that represents the continuity of life with branches that reach into the heavens and roots that reach into the earth.  The fluid lines of the tree make this a perfect focal piece made with copper wire and semi-precious stone chips.  This class is challenging\, so some experience is helpful but not required.    Once finished you can choose to leave your tree copper shiny or antiqued. \nTickets are $50 + $20 to the instructor for supplies. \nTickets include mimosas/wine/beverage.
URL:https://breweryarts.org/event/20250510-tree-of-life/
LOCATION:Brewery Arts Center | South Building | Pottery Studio\, 449 W KING ST\, CARSON CITY\, NV\, 89703\, United States
CATEGORIES:Classes
ATTACH;FMTTYPE=image/jpeg:https://breweryarts.org/wp-content/uploads/2025/04/TreeofLife-scaled.jpg
END:VEVENT
BEGIN:VEVENT
DTSTART;TZID=America/Los_Angeles:20250513T130000
DTEND;TZID=America/Los_Angeles:20250513T143000
DTSTAMP:20260419T155217
CREATED:20250418T174425Z
LAST-MODIFIED:20250418T174425Z
UID:10002538-1747141200-1747146600@breweryarts.org
SUMMARY:Maggie M's Beginning Art Classes for Adults | Tuesdays | May 13th 2025
DESCRIPTION:Classes will provide instruction in drawing\, sketching\, and painting with watercolors and acrylics. Classes will be taught every Tuesday. \nCome and join us!
URL:https://breweryarts.org/event/20250513-adult-art/
LOCATION:Brewery Arts Center | South Building | Painting Studio\, 449 W King St\, Carson City\, NV\, 89703\, United States
CATEGORIES:Art,Classes
ATTACH;FMTTYPE=image/jpeg:https://breweryarts.org/wp-content/uploads/2025/01/2025-MaggieMArtClassesAdults-1-1-scaled.jpg
END:VEVENT
BEGIN:VEVENT
DTSTART;TZID=America/Los_Angeles:20250513T153000
DTEND;TZID=America/Los_Angeles:20250513T170000
DTSTAMP:20260419T155217
CREATED:20250418T174552Z
LAST-MODIFIED:20250418T174552Z
UID:10002539-1747150200-1747155600@breweryarts.org
SUMMARY:After School Arts & Crafts with Maggie M | Tuesdays |  May 13th 2025
DESCRIPTION:A weekly after school art and crafts class for kids 6 to 13. Join Maggie M in exploring different art experiences and learning to use different creative mediums.
URL:https://breweryarts.org/event/20250513-arts-crafts/
LOCATION:Brewery Arts Center | South Building | Painting Studio\, 449 W King St\, Carson City\, NV\, 89703\, United States
CATEGORIES:Classes
ATTACH;FMTTYPE=image/jpeg:https://breweryarts.org/wp-content/uploads/2025/01/2024AfterSchoolArtsCrafts.jpg
END:VEVENT
BEGIN:VEVENT
DTSTART;TZID=America/Los_Angeles:20250516T183000
DTEND;TZID=America/Los_Angeles:20250516T210000
DTSTAMP:20260419T155217
CREATED:20250408T203915Z
LAST-MODIFIED:20250408T203915Z
UID:10002529-1747420200-1747429200@breweryarts.org
SUMMARY:Adult Paint & Sip | Blue Dragonfly | May 16th 2025
DESCRIPTION:Enjoy a fun and easy acrylic painting class as you follow along with instructor Debbie Corona in a relaxed and friendly atmosphere. \nIncludes two complimentary beverages and all materials. \nPlease arrive through 2nd St entrance.
URL:https://breweryarts.org/event/20250516-ps-dragonfly-2/
LOCATION:Brewery Arts Center | South Building | Painting Studio\, 449 W King St\, Carson City\, NV\, 89703\, United States
CATEGORIES:Classes
ATTACH;FMTTYPE=image/jpeg:https://breweryarts.org/wp-content/uploads/2025/04/Blue-Dragon-Fly.jpg
END:VEVENT
BEGIN:VEVENT
DTSTART;TZID=America/Los_Angeles:20250520T130000
DTEND;TZID=America/Los_Angeles:20250520T143000
DTSTAMP:20260419T155217
CREATED:20250418T174835Z
LAST-MODIFIED:20250418T174835Z
UID:10002540-1747746000-1747751400@breweryarts.org
SUMMARY:Maggie M's Beginning Art Classes for Adults | Tuesdays | May 20th 2025
DESCRIPTION:Classes will provide instruction in drawing\, sketching\, and painting with watercolors and acrylics. Classes will be taught every Tuesday. \nCome and join us!
URL:https://breweryarts.org/event/20250520-adult-art/
LOCATION:Brewery Arts Center | South Building | Painting Studio\, 449 W King St\, Carson City\, NV\, 89703\, United States
CATEGORIES:Art,Classes
ATTACH;FMTTYPE=image/jpeg:https://breweryarts.org/wp-content/uploads/2025/01/2025-MaggieMArtClassesAdults-1-1-scaled.jpg
END:VEVENT
BEGIN:VEVENT
DTSTART;TZID=America/Los_Angeles:20250520T153000
DTEND;TZID=America/Los_Angeles:20250520T170000
DTSTAMP:20260419T155217
CREATED:20250418T175013Z
LAST-MODIFIED:20250418T175013Z
UID:10002541-1747755000-1747760400@breweryarts.org
SUMMARY:After School Arts & Crafts with Maggie M | Tuesdays |  May 20th 2025
DESCRIPTION:A weekly after school art and crafts class for kids 6 to 13. Join Maggie M in exploring different art experiences and learning to use different creative mediums.
URL:https://breweryarts.org/event/20250520-arts-crafts/
LOCATION:Brewery Arts Center | South Building | Painting Studio\, 449 W King St\, Carson City\, NV\, 89703\, United States
CATEGORIES:Classes
ATTACH;FMTTYPE=image/jpeg:https://breweryarts.org/wp-content/uploads/2025/01/2024AfterSchoolArtsCrafts.jpg
END:VEVENT
BEGIN:VEVENT
DTSTART;TZID=America/Los_Angeles:20250523T183000
DTEND;TZID=America/Los_Angeles:20250523T210000
DTSTAMP:20260419T155217
CREATED:20250408T190431Z
LAST-MODIFIED:20250523T170420Z
UID:10002526-1748025000-1748034000@breweryarts.org
SUMMARY:Adult Paint & Sip | Cabin of Peace | May 23rd 2025
DESCRIPTION:Enjoy a fun and easy acrylic painting class as you follow along with instructor Debbie Corona in a relaxed and friendly atmosphere. \nIncludes two complimentary beverages and all materials. \nPlease arrive through 2nd St entrance.
URL:https://breweryarts.org/event/20250523-ps-cabin/
LOCATION:Brewery Arts Center | South Building | Painting Studio\, 449 W King St\, Carson City\, NV\, 89703\, United States
CATEGORIES:Classes
ATTACH;FMTTYPE=image/jpeg:https://breweryarts.org/wp-content/uploads/2025/04/Cabin-of-Peace.jpg
END:VEVENT
BEGIN:VEVENT
DTSTART;TZID=America/Los_Angeles:20250530T170000
DTEND;TZID=America/Los_Angeles:20250530T183000
DTSTAMP:20260419T155217
CREATED:20250404T180515Z
LAST-MODIFIED:20250410T225330Z
UID:10002523-1748624400-1748629800@breweryarts.org
SUMMARY:Imagine\, Inspire\, Create – Groovy Little Peace Bracelet | Happy Hour for the Soul Workshop | Friday | May 30th 2025
DESCRIPTION:Join jewelry artist\, Kym Maehl\, the fun in this fabulous & creative class! \nThis is a great class for all levels!  We’ll be tapping into our inner hippie vibe with these great bracelets made of wire\, beads and of course the iconic peace sign!  We’ll be twisting and wrapping and maybe even singing as we create and and sip our beverage of choice.  What a great way to prepare for summer!  \nTuition is $40 + $10 to the instructor for supplies. \nTuition includes wine/beverage
URL:https://breweryarts.org/event/20250530-peace-bracelet/
LOCATION:Brewery Arts Center | South Building | Pottery Studio\, 449 W KING ST\, CARSON CITY\, NV\, 89703\, United States
CATEGORIES:Art,Classes
ATTACH;FMTTYPE=image/jpeg:https://breweryarts.org/wp-content/uploads/2025/04/2025-PeaceBracelet-scaled.jpg
END:VEVENT
BEGIN:VEVENT
DTSTART;TZID=America/Los_Angeles:20250530T183000
DTEND;TZID=America/Los_Angeles:20250530T210000
DTSTAMP:20260419T155217
CREATED:20250408T191234Z
LAST-MODIFIED:20250408T191234Z
UID:10002528-1748629800-1748638800@breweryarts.org
SUMMARY:Adult Paint & Sip | Beach Time is Coming | May 30th 2025
DESCRIPTION:Enjoy a fun and easy acrylic painting class as you follow along with instructor Debbie Corona in a relaxed and friendly atmosphere. \nIncludes two complimentary beverages and all materials. \nPlease arrive through 2nd St entrance.
URL:https://breweryarts.org/event/20250530-ps-beach/
LOCATION:Brewery Arts Center | South Building | Painting Studio\, 449 W King St\, Carson City\, NV\, 89703\, United States
CATEGORIES:Classes
ATTACH;FMTTYPE=image/jpeg:https://breweryarts.org/wp-content/uploads/2025/04/Beach-Time-Is-Coming.jpg
END:VEVENT
BEGIN:VEVENT
DTSTART;TZID=America/Los_Angeles:20250603T130000
DTEND;TZID=America/Los_Angeles:20250603T143000
DTSTAMP:20260419T155217
CREATED:20250520T220433Z
LAST-MODIFIED:20250520T220433Z
UID:10002559-1748955600-1748961000@breweryarts.org
SUMMARY:Maggie M's Beginning Art Classes for Adults | Tuesdays | June 3rd 2025
DESCRIPTION:Classes will provide instruction in drawing\, sketching\, and painting with watercolors and acrylics. Classes will be taught every Tuesday. \nCome and join us!
URL:https://breweryarts.org/event/20250603-adult-art/
LOCATION:Brewery Arts Center | South Building | Painting Studio\, 449 W King St\, Carson City\, NV\, 89703\, United States
CATEGORIES:Art,Classes
ATTACH;FMTTYPE=image/jpeg:https://breweryarts.org/wp-content/uploads/2025/01/2025-MaggieMArtClassesAdults-1-1-scaled.jpg
END:VEVENT
BEGIN:VEVENT
DTSTART;TZID=America/Los_Angeles:20250603T153000
DTEND;TZID=America/Los_Angeles:20250603T170000
DTSTAMP:20260419T155217
CREATED:20250520T220603Z
LAST-MODIFIED:20250520T220603Z
UID:10002560-1748964600-1748970000@breweryarts.org
SUMMARY:After School Arts & Crafts with Maggie M | Tuesdays |  June 3rd 2025
DESCRIPTION:A weekly after school art and crafts class for kids 6 to 13. Join Maggie M in exploring different art experiences and learning to use different creative mediums.
URL:https://breweryarts.org/event/20250603-arts-crafts/
LOCATION:Brewery Arts Center | South Building | Painting Studio\, 449 W King St\, Carson City\, NV\, 89703\, United States
CATEGORIES:Classes
ATTACH;FMTTYPE=image/jpeg:https://breweryarts.org/wp-content/uploads/2025/01/2024AfterSchoolArtsCrafts.jpg
END:VEVENT
BEGIN:VEVENT
DTSTART;TZID=America/Los_Angeles:20250606T183000
DTEND;TZID=America/Los_Angeles:20250606T210000
DTSTAMP:20260419T155217
CREATED:20250410T221247Z
LAST-MODIFIED:20250410T221543Z
UID:10002531-1749234600-1749243600@breweryarts.org
SUMMARY:Adult Paint & Sip | Ode to O'Keeffe | June 6th 2025
DESCRIPTION:Enjoy a fun and easy acrylic painting class as you follow along with instructor Debbie Corona in a relaxed and friendly atmosphere. \nIncludes two complimentary beverages and all materials. \nPlease arrive through 2nd St entrance.
URL:https://breweryarts.org/event/20250606-ps-okeeffe/
LOCATION:Brewery Arts Center | South Building | Painting Studio\, 449 W King St\, Carson City\, NV\, 89703\, United States
CATEGORIES:Classes
ATTACH;FMTTYPE=image/jpeg:https://breweryarts.org/wp-content/uploads/2025/04/Ode-to-Okeeffe.jpg
END:VEVENT
END:VCALENDAR