BEGIN:VCALENDAR
VERSION:2.0
PRODID:-//Brewery Arts Center - ECPv6.15.9//NONSGML v1.0//EN
CALSCALE:GREGORIAN
METHOD:PUBLISH
X-ORIGINAL-URL:https://breweryarts.org
X-WR-CALDESC:Events for Brewery Arts Center
REFRESH-INTERVAL;VALUE=DURATION:PT1H
X-Robots-Tag:noindex
X-PUBLISHED-TTL:PT1H
BEGIN:VTIMEZONE
TZID:America/Los_Angeles
BEGIN:DAYLIGHT
TZOFFSETFROM:-0800
TZOFFSETTO:-0700
TZNAME:PDT
DTSTART:20240310T100000
END:DAYLIGHT
BEGIN:STANDARD
TZOFFSETFROM:-0700
TZOFFSETTO:-0800
TZNAME:PST
DTSTART:20241103T090000
END:STANDARD
BEGIN:DAYLIGHT
TZOFFSETFROM:-0800
TZOFFSETTO:-0700
TZNAME:PDT
DTSTART:20250309T100000
END:DAYLIGHT
BEGIN:STANDARD
TZOFFSETFROM:-0700
TZOFFSETTO:-0800
TZNAME:PST
DTSTART:20251102T090000
END:STANDARD
BEGIN:DAYLIGHT
TZOFFSETFROM:-0800
TZOFFSETTO:-0700
TZNAME:PDT
DTSTART:20260308T100000
END:DAYLIGHT
BEGIN:STANDARD
TZOFFSETFROM:-0700
TZOFFSETTO:-0800
TZNAME:PST
DTSTART:20261101T090000
END:STANDARD
END:VTIMEZONE
BEGIN:VEVENT
DTSTART;TZID=America/Los_Angeles:20250228T183000
DTEND;TZID=America/Los_Angeles:20250228T210000
DTSTAMP:20260419T155115
CREATED:20250107T191133Z
LAST-MODIFIED:20250222T162245Z
UID:10002226-1740767400-1740776400@breweryarts.org
SUMMARY:Adult Paint & Sip | Is It Still Winter | February 28th 2025
DESCRIPTION:Enjoy a fun and easy acrylic painting class as you follow along with instructor Debbie Corona in a relaxed and friendly atmosphere. \nIncludes two complimentary beverages and all materials. \nPlease arrive through 2nd St entrance.
URL:https://breweryarts.org/event/20250228-ps-winter/
LOCATION:Brewery Arts Center | East Building | Grand Ballroom\, 449 W KING ST\, CARSON CITY\, NV\, 89703\, United States
CATEGORIES:Classes
ATTACH;FMTTYPE=image/jpeg:https://breweryarts.org/wp-content/uploads/2025/01/Is-It-Still-Winter.jpg
END:VEVENT
BEGIN:VEVENT
DTSTART;TZID=America/Los_Angeles:20250302T173000
DTEND;TZID=America/Los_Angeles:20250302T190000
DTSTAMP:20260419T155115
CREATED:20250204T231937Z
LAST-MODIFIED:20250204T232114Z
UID:10002342-1740936600-1740942000@breweryarts.org
SUMMARY:Artist's Open Studio | Every 1st Sunday | March 2nd 2025
DESCRIPTION:Come join us on every first Sunday for an open studio! Bring in your crafts\, projects\, paintings\, and more to create in an open environment with a community of other artists! \nSupplies are not provided. \nAll skill levels are welcome\, ages 16 and up.
URL:https://breweryarts.org/event/20250302-open-studio/
LOCATION:Brewery Arts Center | South Building | Drawing Studio\, 449 W KING ST\, CARSON CITY\, NV\, 89703\, United States
CATEGORIES:Art,Classes
ATTACH;FMTTYPE=image/jpeg:https://breweryarts.org/wp-content/uploads/2025/02/2025-OpenStudio-scaled.jpg
END:VEVENT
BEGIN:VEVENT
DTSTART;TZID=America/Los_Angeles:20250304T130000
DTEND;TZID=America/Los_Angeles:20250304T143000
DTSTAMP:20260419T155115
CREATED:20250214T211209Z
LAST-MODIFIED:20250214T211209Z
UID:10002468-1741093200-1741098600@breweryarts.org
SUMMARY:Maggie M's Beginning Art Classes for Adults | Tuesdays | March 4th 2025
DESCRIPTION:Classes will provide instruction in drawing\, sketching\, and painting with watercolors and acrylics. Classes will be taught every Tuesday. \nCome and join us!
URL:https://breweryarts.org/event/20250304-adult-art/
LOCATION:Brewery Arts Center | South Building | Painting Studio\, 449 W King St\, Carson City\, NV\, 89703\, United States
CATEGORIES:Art,Classes
ATTACH;FMTTYPE=image/jpeg:https://breweryarts.org/wp-content/uploads/2025/01/2025-MaggieMArtClassesAdults-1-1-scaled.jpg
END:VEVENT
BEGIN:VEVENT
DTSTART;TZID=America/Los_Angeles:20250304T153000
DTEND;TZID=America/Los_Angeles:20250304T170000
DTSTAMP:20260419T155115
CREATED:20250214T211454Z
LAST-MODIFIED:20250214T211454Z
UID:10002469-1741102200-1741107600@breweryarts.org
SUMMARY:After School Arts & Crafts with Maggie M | Tuesdays | March 4th 2025
DESCRIPTION:A weekly after school art and crafts class for kids 6 to 13. Join Maggie M in exploring different art experiences and learning to use different creative mediums.
URL:https://breweryarts.org/event/20250304-arts-crafts/
LOCATION:Brewery Arts Center | South Building | Painting Studio\, 449 W King St\, Carson City\, NV\, 89703\, United States
CATEGORIES:Classes
ATTACH;FMTTYPE=image/jpeg:https://breweryarts.org/wp-content/uploads/2025/01/2024AfterSchoolArtsCrafts.jpg
END:VEVENT
BEGIN:VEVENT
DTSTART;TZID=America/Los_Angeles:20250305T140000
DTEND;TZID=America/Los_Angeles:20250305T160000
DTSTAMP:20260419T155115
CREATED:20250212T204426Z
LAST-MODIFIED:20250218T184254Z
UID:10002346-1741183200-1741190400@breweryarts.org
SUMMARY:Adult 4-Week Pottery Class Sampler | Wednesdays | March 5th\, 12th\, 19th\, & 26th 2025
DESCRIPTION:In this fun 4-Week class you’ll get an introduction to pottery that includes the three basic handbuilding techniques and glazing.\nAt the end of the four weeks you will have created a minimum of three pieces that are fun and functional.\n(No previous experience required.  Returning students may choose to integrate the three techniques into a more advanced project.)\n\nCost:  $100 + $20 to instructor at first class for supplies\n\nWeek 1 – Studio overview and Pinch Pots\nWeek 2 – Coiling\nWeek 3 – Slab Work\nWeek 4 – Glazing
URL:https://breweryarts.org/event/20250305-pottery-sampler/
LOCATION:Brewery Arts Center | South Building | Pottery Studio\, 449 W KING ST\, CARSON CITY\, NV\, 89703\, United States
CATEGORIES:Classes
ATTACH;FMTTYPE=image/jpeg:https://breweryarts.org/wp-content/uploads/2025/02/MarchPotteryClassSampler-scaled.jpg
END:VEVENT
BEGIN:VEVENT
DTSTART;TZID=America/Los_Angeles:20250305T183000
DTEND;TZID=America/Los_Angeles:20250305T203000
DTSTAMP:20260419T155115
CREATED:20250108T205440Z
LAST-MODIFIED:20250108T205454Z
UID:10002250-1741199400-1741206600@breweryarts.org
SUMMARY:PPI Presents Improv @ the BAC | Every Wednesday | March 5th 2025
DESCRIPTION:Learn the basics of improv and play games. Free to the public. \nQuestions? Email us @ ppicommunitytheater@gmail.com \n 
URL:https://breweryarts.org/event/20250305-improv/
LOCATION:NAA Gallery Lobby\, 449 West King Street\, Carson City\, NV\, 89703\, United States
CATEGORIES:Classes,Theater
ATTACH;FMTTYPE=image/jpeg:https://breweryarts.org/wp-content/uploads/2024/07/2024-ImprovClasses-2-scaled.jpg
END:VEVENT
BEGIN:VEVENT
DTSTART;TZID=America/Los_Angeles:20250307T183000
DTEND;TZID=America/Los_Angeles:20250307T210000
DTSTAMP:20260419T155115
CREATED:20250107T191527Z
LAST-MODIFIED:20250107T191527Z
UID:10002227-1741372200-1741381200@breweryarts.org
SUMMARY:Adult Paint & Sip | On Top of the World | March 7th 2025
DESCRIPTION:Enjoy a fun and easy acrylic painting class as you follow along with instructor Debbie Corona in a relaxed and friendly atmosphere. \nIncludes two complimentary beverages and all materials. \nPlease arrive through 2nd St entrance.
URL:https://breweryarts.org/event/20250307-ps-world/
LOCATION:Brewery Arts Center | South Building | Painting Studio\, 449 W King St\, Carson City\, NV\, 89703\, United States
CATEGORIES:Classes
ATTACH;FMTTYPE=image/jpeg:https://breweryarts.org/wp-content/uploads/2025/01/On-Top-of-the-World.jpg
END:VEVENT
BEGIN:VEVENT
DTSTART;TZID=America/Los_Angeles:20250311T130000
DTEND;TZID=America/Los_Angeles:20250311T143000
DTSTAMP:20260419T155115
CREATED:20250214T214519Z
LAST-MODIFIED:20250214T214519Z
UID:10002470-1741698000-1741703400@breweryarts.org
SUMMARY:Maggie M's Beginning Art Classes for Adults | Tuesdays | March 11th 2025
DESCRIPTION:Classes will provide instruction in drawing\, sketching\, and painting with watercolors and acrylics. Classes will be taught every Tuesday. \nCome and join us!
URL:https://breweryarts.org/event/20250311-adult-art/
LOCATION:Brewery Arts Center | South Building | Painting Studio\, 449 W King St\, Carson City\, NV\, 89703\, United States
CATEGORIES:Art,Classes
ATTACH;FMTTYPE=image/jpeg:https://breweryarts.org/wp-content/uploads/2025/01/2025-MaggieMArtClassesAdults-1-1-scaled.jpg
END:VEVENT
BEGIN:VEVENT
DTSTART;TZID=America/Los_Angeles:20250311T153000
DTEND;TZID=America/Los_Angeles:20250311T170000
DTSTAMP:20260419T155115
CREATED:20250214T214639Z
LAST-MODIFIED:20250214T214639Z
UID:10002471-1741707000-1741712400@breweryarts.org
SUMMARY:After School Arts & Crafts with Maggie M | Tuesdays | March 11th 2025
DESCRIPTION:A weekly after school art and crafts class for kids 6 to 13. Join Maggie M in exploring different art experiences and learning to use different creative mediums.
URL:https://breweryarts.org/event/20250311-arts-crafts/
LOCATION:Brewery Arts Center | South Building | Painting Studio\, 449 W King St\, Carson City\, NV\, 89703\, United States
CATEGORIES:Classes
ATTACH;FMTTYPE=image/jpeg:https://breweryarts.org/wp-content/uploads/2025/01/2024AfterSchoolArtsCrafts.jpg
END:VEVENT
BEGIN:VEVENT
DTSTART;TZID=America/Los_Angeles:20250312T183000
DTEND;TZID=America/Los_Angeles:20250312T203000
DTSTAMP:20260419T155115
CREATED:20250108T205601Z
LAST-MODIFIED:20250108T205601Z
UID:10002251-1741804200-1741811400@breweryarts.org
SUMMARY:PPI Presents Improv @ the BAC | Every Wednesday | March 12th 2025
DESCRIPTION:Learn the basics of improv and play games. Free to the public. \nQuestions? Email us @ ppicommunitytheater@gmail.com \n 
URL:https://breweryarts.org/event/20250312-improv/
LOCATION:NAA Gallery Lobby\, 449 West King Street\, Carson City\, NV\, 89703\, United States
CATEGORIES:Classes,Theater
ATTACH;FMTTYPE=image/jpeg:https://breweryarts.org/wp-content/uploads/2024/07/2024-ImprovClasses-2-scaled.jpg
END:VEVENT
BEGIN:VEVENT
DTSTART;TZID=America/Los_Angeles:20250314T183000
DTEND;TZID=America/Los_Angeles:20250314T210000
DTSTAMP:20260419T155115
CREATED:20250107T192224Z
LAST-MODIFIED:20250107T192224Z
UID:10002229-1741977000-1741986000@breweryarts.org
SUMMARY:Adult Paint & Sip | Three Grapes | March 14th 2025
DESCRIPTION:Enjoy a fun and easy acrylic painting class as you follow along with instructor Debbie Corona in a relaxed and friendly atmosphere. \nIncludes two complimentary beverages and all materials. \nPlease arrive through 2nd St entrance.
URL:https://breweryarts.org/event/20250314-ps-grapes/
LOCATION:Brewery Arts Center | South Building | Painting Studio\, 449 W King St\, Carson City\, NV\, 89703\, United States
CATEGORIES:Classes
ATTACH;FMTTYPE=image/jpeg:https://breweryarts.org/wp-content/uploads/2025/01/3-Grapes-Still.jpg
END:VEVENT
BEGIN:VEVENT
DTSTART;TZID=America/Los_Angeles:20250318T130000
DTEND;TZID=America/Los_Angeles:20250318T143000
DTSTAMP:20260419T155115
CREATED:20250214T214752Z
LAST-MODIFIED:20250214T214752Z
UID:10002472-1742302800-1742308200@breweryarts.org
SUMMARY:Maggie M's Beginning Art Classes for Adults | Tuesdays | March 18th 2025
DESCRIPTION:Classes will provide instruction in drawing\, sketching\, and painting with watercolors and acrylics. Classes will be taught every Tuesday. \nCome and join us!
URL:https://breweryarts.org/event/20250318-adult-art/
LOCATION:Brewery Arts Center | South Building | Painting Studio\, 449 W King St\, Carson City\, NV\, 89703\, United States
CATEGORIES:Art,Classes
ATTACH;FMTTYPE=image/jpeg:https://breweryarts.org/wp-content/uploads/2025/01/2025-MaggieMArtClassesAdults-1-1-scaled.jpg
END:VEVENT
BEGIN:VEVENT
DTSTART;TZID=America/Los_Angeles:20250318T153000
DTEND;TZID=America/Los_Angeles:20250318T170000
DTSTAMP:20260419T155115
CREATED:20250214T214923Z
LAST-MODIFIED:20250214T214923Z
UID:10002473-1742311800-1742317200@breweryarts.org
SUMMARY:After School Arts & Crafts with Maggie M | Tuesdays | March 18th 2025
DESCRIPTION:A weekly after school art and crafts class for kids 6 to 13. Join Maggie M in exploring different art experiences and learning to use different creative mediums.
URL:https://breweryarts.org/event/20250318-arts-crafts/
LOCATION:Brewery Arts Center | South Building | Painting Studio\, 449 W King St\, Carson City\, NV\, 89703\, United States
CATEGORIES:Classes
ATTACH;FMTTYPE=image/jpeg:https://breweryarts.org/wp-content/uploads/2025/01/2024AfterSchoolArtsCrafts.jpg
END:VEVENT
BEGIN:VEVENT
DTSTART;TZID=America/Los_Angeles:20250319T183000
DTEND;TZID=America/Los_Angeles:20250319T203000
DTSTAMP:20260419T155115
CREATED:20250108T205727Z
LAST-MODIFIED:20250108T205727Z
UID:10002252-1742409000-1742416200@breweryarts.org
SUMMARY:PPI Presents Improv @ the BAC | Every Wednesday | March 19th 2025
DESCRIPTION:Learn the basics of improv and play games. Free to the public. \nQuestions? Email us @ ppicommunitytheater@gmail.com \n 
URL:https://breweryarts.org/event/20250319-improv/
LOCATION:NAA Gallery Lobby\, 449 West King Street\, Carson City\, NV\, 89703\, United States
CATEGORIES:Classes,Theater
ATTACH;FMTTYPE=image/jpeg:https://breweryarts.org/wp-content/uploads/2024/07/2024-ImprovClasses-2-scaled.jpg
END:VEVENT
BEGIN:VEVENT
DTSTART;TZID=America/Los_Angeles:20250321T183000
DTEND;TZID=America/Los_Angeles:20250321T210000
DTSTAMP:20260419T155115
CREATED:20250107T195046Z
LAST-MODIFIED:20250107T195046Z
UID:10002230-1742581800-1742590800@breweryarts.org
SUMMARY:Adult Paint & Sip | Beyond the Keyhole | March 21st 2025
DESCRIPTION:Enjoy a fun and easy acrylic painting class as you follow along with instructor Debbie Corona in a relaxed and friendly atmosphere. \nIncludes two complimentary beverages and all materials. \nPlease arrive through 2nd St entrance.
URL:https://breweryarts.org/event/20250321-ps-keyhole/
LOCATION:Brewery Arts Center | South Building | Painting Studio\, 449 W King St\, Carson City\, NV\, 89703\, United States
CATEGORIES:Classes
ATTACH;FMTTYPE=image/jpeg:https://breweryarts.org/wp-content/uploads/2025/01/Byond-the-Keyhole.jpg
END:VEVENT
BEGIN:VEVENT
DTSTART;TZID=America/Los_Angeles:20250325T130000
DTEND;TZID=America/Los_Angeles:20250325T143000
DTSTAMP:20260419T155115
CREATED:20250214T215055Z
LAST-MODIFIED:20250214T215055Z
UID:10002474-1742907600-1742913000@breweryarts.org
SUMMARY:Maggie M's Beginning Art Classes for Adults | Tuesdays | March 25th 2025
DESCRIPTION:Classes will provide instruction in drawing\, sketching\, and painting with watercolors and acrylics. Classes will be taught every Tuesday. \nCome and join us!
URL:https://breweryarts.org/event/20250325-adult-art/
LOCATION:Brewery Arts Center | South Building | Painting Studio\, 449 W King St\, Carson City\, NV\, 89703\, United States
CATEGORIES:Art,Classes
ATTACH;FMTTYPE=image/jpeg:https://breweryarts.org/wp-content/uploads/2025/01/2025-MaggieMArtClassesAdults-1-1-scaled.jpg
END:VEVENT
BEGIN:VEVENT
DTSTART;TZID=America/Los_Angeles:20250325T153000
DTEND;TZID=America/Los_Angeles:20250325T170000
DTSTAMP:20260419T155115
CREATED:20250214T215405Z
LAST-MODIFIED:20250214T215405Z
UID:10002475-1742916600-1742922000@breweryarts.org
SUMMARY:After School Arts & Crafts with Maggie M | Tuesdays | March 25th 2025
DESCRIPTION:A weekly after school art and crafts class for kids 6 to 13. Join Maggie M in exploring different art experiences and learning to use different creative mediums.
URL:https://breweryarts.org/event/20250325-arts-crafts/
LOCATION:Brewery Arts Center | South Building | Painting Studio\, 449 W King St\, Carson City\, NV\, 89703\, United States
CATEGORIES:Classes
ATTACH;FMTTYPE=image/jpeg:https://breweryarts.org/wp-content/uploads/2025/01/2024AfterSchoolArtsCrafts.jpg
END:VEVENT
BEGIN:VEVENT
DTSTART;TZID=America/Los_Angeles:20250326T183000
DTEND;TZID=America/Los_Angeles:20250326T203000
DTSTAMP:20260419T155115
CREATED:20250108T205935Z
LAST-MODIFIED:20250108T205935Z
UID:10002253-1743013800-1743021000@breweryarts.org
SUMMARY:PPI Presents Improv @ the BAC | Every Wednesday | March 26th 2025
DESCRIPTION:Learn the basics of improv and play games. Free to the public. \nQuestions? Email us @ ppicommunitytheater@gmail.com \n 
URL:https://breweryarts.org/event/20250326-improv/
LOCATION:NAA Gallery Lobby\, 449 West King Street\, Carson City\, NV\, 89703\, United States
CATEGORIES:Classes,Theater
ATTACH;FMTTYPE=image/jpeg:https://breweryarts.org/wp-content/uploads/2024/07/2024-ImprovClasses-2-scaled.jpg
END:VEVENT
BEGIN:VEVENT
DTSTART;TZID=America/Los_Angeles:20250328T170000
DTEND;TZID=America/Los_Angeles:20250328T183000
DTSTAMP:20260419T155115
CREATED:20250204T231330Z
LAST-MODIFIED:20250204T231330Z
UID:10002341-1743181200-1743186600@breweryarts.org
SUMMARY:Imagine\, Inspire\, Create – Wire Wrap Cluster Ring | Happy Hour for the Soul Workshop | Friday | March 28th 2025
DESCRIPTION:Join the fun in this fabulous & creative class! \nThis is a great class for all levels!  We’ll be making cluster rings that are as fun to make as they are to wear.  In this class\, we will be making at least two rings using using gold\, copper or silver jeweler’s wire\, and glass or semiprecious stone beads. The first ring will be the warm up with wire and glass beads.  The second will be the grand slam with wire and semiprecious beads.   Each ring will be unique\, surprisingly durable and super cute! \nTuition is $40 + $10 to the instructor for supplies. \nTuition includes wine/beverage
URL:https://breweryarts.org/event/20250328-happy-hour/
LOCATION:Brewery Arts Center | South Building | Pottery Studio\, 449 W KING ST\, CARSON CITY\, NV\, 89703\, United States
CATEGORIES:Art,Classes
ATTACH;FMTTYPE=image/jpeg:https://breweryarts.org/wp-content/uploads/2025/02/2025-WireRing-scaled.jpg
END:VEVENT
BEGIN:VEVENT
DTSTART;TZID=America/Los_Angeles:20250328T183000
DTEND;TZID=America/Los_Angeles:20250328T210000
DTSTAMP:20260419T155115
CREATED:20250107T195852Z
LAST-MODIFIED:20250320T214629Z
UID:10002231-1743186600-1743195600@breweryarts.org
SUMMARY:Adult Paint & Sip | Squirreling Away | March 28th 2025
DESCRIPTION:Enjoy a fun and easy acrylic painting class as you follow along with instructor Debbie Corona in a relaxed and friendly atmosphere. \nIncludes two complimentary beverages and all materials. \nPlease arrive through 2nd St entrance.
URL:https://breweryarts.org/event/20250328-ps-squirreling/
LOCATION:Brewery Arts Center | South Building | Painting Studio\, 449 W King St\, Carson City\, NV\, 89703\, United States
CATEGORIES:Classes
ATTACH;FMTTYPE=image/jpeg:https://breweryarts.org/wp-content/uploads/2025/01/PaintSip-scaled.jpg
END:VEVENT
BEGIN:VEVENT
DTSTART;TZID=America/Los_Angeles:20250401T130000
DTEND;TZID=America/Los_Angeles:20250401T143000
DTSTAMP:20260419T155115
CREATED:20250312T171934Z
LAST-MODIFIED:20250314T180522Z
UID:10002487-1743512400-1743517800@breweryarts.org
SUMMARY:Maggie M's Beginning Art Classes for Adults | Tuesdays | April 1st 2025
DESCRIPTION:Classes will provide instruction in drawing\, sketching\, and painting with watercolors and acrylics. Classes will be taught every Tuesday. \nCome and join us!
URL:https://breweryarts.org/event/20250401-adult-art/
LOCATION:Brewery Arts Center | South Building | Painting Studio\, 449 W King St\, Carson City\, NV\, 89703\, United States
CATEGORIES:Art,Classes
ATTACH;FMTTYPE=image/jpeg:https://breweryarts.org/wp-content/uploads/2025/01/2025-MaggieMArtClassesAdults-1-1-scaled.jpg
END:VEVENT
BEGIN:VEVENT
DTSTART;TZID=America/Los_Angeles:20250401T153000
DTEND;TZID=America/Los_Angeles:20250401T170000
DTSTAMP:20260419T155115
CREATED:20250312T172055Z
LAST-MODIFIED:20250312T172055Z
UID:10002488-1743521400-1743526800@breweryarts.org
SUMMARY:After School Arts & Crafts with Maggie M | Tuesdays | April 1st 2025
DESCRIPTION:A weekly after school art and crafts class for kids 6 to 13. Join Maggie M in exploring different art experiences and learning to use different creative mediums.
URL:https://breweryarts.org/event/20250401-after-school-art/
LOCATION:Brewery Arts Center | South Building | Painting Studio\, 449 W King St\, Carson City\, NV\, 89703\, United States
CATEGORIES:Classes
ATTACH;FMTTYPE=image/jpeg:https://breweryarts.org/wp-content/uploads/2025/01/2024AfterSchoolArtsCrafts.jpg
END:VEVENT
BEGIN:VEVENT
DTSTART;TZID=America/Los_Angeles:20250402T183000
DTEND;TZID=America/Los_Angeles:20250402T203000
DTSTAMP:20260419T155115
CREATED:20250326T171335Z
LAST-MODIFIED:20250326T171335Z
UID:10002508-1743618600-1743625800@breweryarts.org
SUMMARY:PPI Presents Improv @ the BAC | Every Wednesday | April 2nd 2025
DESCRIPTION:Learn the basics of improv and play games. Free to the public. \nQuestions? Email us @ ppicommunitytheater@gmail.com \n 
URL:https://breweryarts.org/event/20250402-improv/
LOCATION:NAA Gallery Lobby\, 449 West King Street\, Carson City\, NV\, 89703\, United States
CATEGORIES:Classes,Theater
ATTACH;FMTTYPE=image/jpeg:https://breweryarts.org/wp-content/uploads/2024/07/2024-ImprovClasses-2-scaled.jpg
END:VEVENT
BEGIN:VEVENT
DTSTART;TZID=America/Los_Angeles:20250404T183000
DTEND;TZID=America/Los_Angeles:20250404T210000
DTSTAMP:20260419T155115
CREATED:20250107T201725Z
LAST-MODIFIED:20250107T201725Z
UID:10002232-1743791400-1743800400@breweryarts.org
SUMMARY:Adult Paint & Sip | Migration | April 4th 2025
DESCRIPTION:Enjoy a fun and easy acrylic painting class as you follow along with instructor Debbie Corona in a relaxed and friendly atmosphere. \nIncludes two complimentary beverages and all materials. \nPlease arrive through 2nd St entrance.
URL:https://breweryarts.org/event/20250404-ps-migration/
LOCATION:Brewery Arts Center | South Building | Painting Studio\, 449 W King St\, Carson City\, NV\, 89703\, United States
CATEGORIES:Classes
ATTACH;FMTTYPE=image/jpeg:https://breweryarts.org/wp-content/uploads/2025/01/Migration.jpg
END:VEVENT
BEGIN:VEVENT
DTSTART;TZID=America/Los_Angeles:20250406T173000
DTEND;TZID=America/Los_Angeles:20250406T190000
DTSTAMP:20260419T155115
CREATED:20250326T173728Z
LAST-MODIFIED:20250326T173728Z
UID:10002513-1743960600-1743966000@breweryarts.org
SUMMARY:Artist's Open Studio | Every 1st Sunday | April 6th 2025
DESCRIPTION:Come join us on every first Sunday for an open studio! Bring in your crafts\, projects\, paintings\, and more to create in an open environment with a community of other artists! \nSupplies are not provided. \nAll skill levels are welcome\, ages 16 and up.
URL:https://breweryarts.org/event/20250406-open-studio/
LOCATION:Brewery Arts Center | South Building | Drawing Studio\, 449 W KING ST\, CARSON CITY\, NV\, 89703\, United States
CATEGORIES:Art,Classes
ATTACH;FMTTYPE=image/jpeg:https://breweryarts.org/wp-content/uploads/2025/02/2025-OpenStudio-scaled.jpg
END:VEVENT
BEGIN:VEVENT
DTSTART;TZID=America/Los_Angeles:20250408T130000
DTEND;TZID=America/Los_Angeles:20250408T143000
DTSTAMP:20260419T155115
CREATED:20250312T172228Z
LAST-MODIFIED:20250312T172228Z
UID:10002489-1744117200-1744122600@breweryarts.org
SUMMARY:Maggie M's Beginning Art Classes for Adults | Tuesdays | April 8th 2025
DESCRIPTION:Classes will provide instruction in drawing\, sketching\, and painting with watercolors and acrylics. Classes will be taught every Tuesday. \nCome and join us!
URL:https://breweryarts.org/event/20250408-adult-art/
LOCATION:Brewery Arts Center | South Building | Painting Studio\, 449 W King St\, Carson City\, NV\, 89703\, United States
CATEGORIES:Art,Classes
ATTACH;FMTTYPE=image/jpeg:https://breweryarts.org/wp-content/uploads/2025/01/2025-MaggieMArtClassesAdults-1-1-scaled.jpg
END:VEVENT
BEGIN:VEVENT
DTSTART;TZID=America/Los_Angeles:20250408T153000
DTEND;TZID=America/Los_Angeles:20250408T170000
DTSTAMP:20260419T155115
CREATED:20250312T172400Z
LAST-MODIFIED:20250312T172400Z
UID:10002490-1744126200-1744131600@breweryarts.org
SUMMARY:After School Arts & Crafts with Maggie M | Tuesdays | April 8th 2025
DESCRIPTION:A weekly after school art and crafts class for kids 6 to 13. Join Maggie M in exploring different art experiences and learning to use different creative mediums.
URL:https://breweryarts.org/event/20250408-after-school-art/
LOCATION:Brewery Arts Center | South Building | Painting Studio\, 449 W King St\, Carson City\, NV\, 89703\, United States
CATEGORIES:Classes
ATTACH;FMTTYPE=image/jpeg:https://breweryarts.org/wp-content/uploads/2025/01/2024AfterSchoolArtsCrafts.jpg
END:VEVENT
BEGIN:VEVENT
DTSTART;TZID=America/Los_Angeles:20250409T183000
DTEND;TZID=America/Los_Angeles:20250409T203000
DTSTAMP:20260419T155115
CREATED:20250326T171502Z
LAST-MODIFIED:20250326T171502Z
UID:10002509-1744223400-1744230600@breweryarts.org
SUMMARY:PPI Presents Improv @ the BAC | Every Wednesday | April 9th 2025
DESCRIPTION:Learn the basics of improv and play games. Free to the public. \nQuestions? Email us @ ppicommunitytheater@gmail.com \n 
URL:https://breweryarts.org/event/20250409-improv/
LOCATION:NAA Gallery Lobby\, 449 West King Street\, Carson City\, NV\, 89703\, United States
CATEGORIES:Classes,Theater
ATTACH;FMTTYPE=image/jpeg:https://breweryarts.org/wp-content/uploads/2024/07/2024-ImprovClasses-2-scaled.jpg
END:VEVENT
BEGIN:VEVENT
DTSTART;TZID=America/Los_Angeles:20250411T183000
DTEND;TZID=America/Los_Angeles:20250411T210000
DTSTAMP:20260419T155115
CREATED:20250107T202505Z
LAST-MODIFIED:20250107T202505Z
UID:10002233-1744396200-1744405200@breweryarts.org
SUMMARY:Adult Paint & Sip | Twilight Tulips | April 11th 2025
DESCRIPTION:Enjoy a fun and easy acrylic painting class as you follow along with instructor Debbie Corona in a relaxed and friendly atmosphere. \nIncludes two complimentary beverages and all materials. \nPlease arrive through 2nd St entrance.
URL:https://breweryarts.org/event/20250411-ps-tulips/
LOCATION:Brewery Arts Center | South Building | Painting Studio\, 449 W King St\, Carson City\, NV\, 89703\, United States
CATEGORIES:Classes
ATTACH;FMTTYPE=image/jpeg:https://breweryarts.org/wp-content/uploads/2025/01/Twilight-Tulip.jpg
END:VEVENT
BEGIN:VEVENT
DTSTART;TZID=America/Los_Angeles:20250415T130000
DTEND;TZID=America/Los_Angeles:20250415T143000
DTSTAMP:20260419T155115
CREATED:20250312T172535Z
LAST-MODIFIED:20250312T172535Z
UID:10002491-1744722000-1744727400@breweryarts.org
SUMMARY:Maggie M's Beginning Art Classes for Adults | Tuesdays | April 15th 2025
DESCRIPTION:Classes will provide instruction in drawing\, sketching\, and painting with watercolors and acrylics. Classes will be taught every Tuesday. \nCome and join us!
URL:https://breweryarts.org/event/20250415-adult-art/
LOCATION:Brewery Arts Center | South Building | Painting Studio\, 449 W King St\, Carson City\, NV\, 89703\, United States
CATEGORIES:Art,Classes
ATTACH;FMTTYPE=image/jpeg:https://breweryarts.org/wp-content/uploads/2025/01/2025-MaggieMArtClassesAdults-1-1-scaled.jpg
END:VEVENT
END:VCALENDAR