BEGIN:VCALENDAR
VERSION:2.0
PRODID:-//Brewery Arts Center - ECPv6.15.9//NONSGML v1.0//EN
CALSCALE:GREGORIAN
METHOD:PUBLISH
X-WR-CALNAME:Brewery Arts Center
X-ORIGINAL-URL:https://breweryarts.org
X-WR-CALDESC:Events for Brewery Arts Center
REFRESH-INTERVAL;VALUE=DURATION:PT1H
X-Robots-Tag:noindex
X-PUBLISHED-TTL:PT1H
BEGIN:VTIMEZONE
TZID:America/Los_Angeles
BEGIN:DAYLIGHT
TZOFFSETFROM:-0800
TZOFFSETTO:-0700
TZNAME:PDT
DTSTART:20230312T100000
END:DAYLIGHT
BEGIN:STANDARD
TZOFFSETFROM:-0700
TZOFFSETTO:-0800
TZNAME:PST
DTSTART:20231105T090000
END:STANDARD
BEGIN:DAYLIGHT
TZOFFSETFROM:-0800
TZOFFSETTO:-0700
TZNAME:PDT
DTSTART:20240310T100000
END:DAYLIGHT
BEGIN:STANDARD
TZOFFSETFROM:-0700
TZOFFSETTO:-0800
TZNAME:PST
DTSTART:20241103T090000
END:STANDARD
BEGIN:DAYLIGHT
TZOFFSETFROM:-0800
TZOFFSETTO:-0700
TZNAME:PDT
DTSTART:20250309T100000
END:DAYLIGHT
BEGIN:STANDARD
TZOFFSETFROM:-0700
TZOFFSETTO:-0800
TZNAME:PST
DTSTART:20251102T090000
END:STANDARD
END:VTIMEZONE
BEGIN:VEVENT
DTSTART;TZID=America/Los_Angeles:20240911T150000
DTEND;TZID=America/Los_Angeles:20240911T163000
DTSTAMP:20260420T142301
CREATED:20240827T212029Z
LAST-MODIFIED:20240905T183123Z
UID:10002104-1726066800-1726072200@breweryarts.org
SUMMARY:Maggie M's Beginning Art Classes for Teens | Wednesdays | September 11th 2024
DESCRIPTION:Classes will provide instruction in drawing\, sketching\, and painting with watercolors and acrylics. Classes will be taught every Wednesday. \nCome and join us!
URL:https://breweryarts.org/event/20240911-teen-class/
LOCATION:Brewery Arts Center | South Building | Drawing Studio\, 449 W KING ST\, CARSON CITY\, NV\, 89703\, United States
CATEGORIES:Art,Classes
ATTACH;FMTTYPE=image/jpeg:https://breweryarts.org/wp-content/uploads/2024/09/2024-MaggieMArtClasses-General-scaled.jpg
END:VEVENT
BEGIN:VEVENT
DTSTART;TZID=America/Los_Angeles:20240911T173000
DTEND;TZID=America/Los_Angeles:20240911T190000
DTSTAMP:20260420T142301
CREATED:20240628T211914Z
LAST-MODIFIED:20240808T224718Z
UID:10002064-1726075800-1726081200@breweryarts.org
SUMMARY:Learn to Sketch | Wednesday |  September 11th\, 2024
DESCRIPTION:In this class you’ll learn about problem-solving through art\, as well as how to draw with instructor Kaleb Wyckoff. Whether you can sketch a stick figure or a portrait\, this class is for you! All skill levels are welcome. Every class is different and designed to strive for accessibility. Classes take place every other week and focus on stand alone lessons\, meaning you can join at anytime without being behind.\n\nAll materials included. Arrive through the 2nd Street entrance.
URL:https://breweryarts.org/event/20240911-sketch/
LOCATION:Brewery Arts Center | South Building | Drawing Studio\, 449 W KING ST\, CARSON CITY\, NV\, 89703\, United States
CATEGORIES:Classes
ATTACH;FMTTYPE=image/jpeg:https://breweryarts.org/wp-content/uploads/2024/02/Ongoing-learntosketch.jpg
END:VEVENT
BEGIN:VEVENT
DTSTART;TZID=America/Los_Angeles:20240911T183000
DTEND;TZID=America/Los_Angeles:20240911T203000
DTSTAMP:20260420T142301
CREATED:20240730T214820Z
LAST-MODIFIED:20240910T200123Z
UID:10002084-1726079400-1726086600@breweryarts.org
SUMMARY:PPI Presents Improv @ the BAC | Every Wednesday | September 11th 2024
DESCRIPTION:Learn the basics of improv and play games. Free to the public. \nQuestions? Email us @ ppicommunitytheater@gmail.com \n 
URL:https://breweryarts.org/event/20240911-improv/
LOCATION:Brewery Arts Center | East Building | Grand Ballroom\, 449 W KING ST\, CARSON CITY\, NV\, 89703\, United States
CATEGORIES:Classes,Theater
ATTACH;FMTTYPE=image/jpeg:https://breweryarts.org/wp-content/uploads/2024/07/2024-ImprovClasses-2-scaled.jpg
END:VEVENT
END:VCALENDAR