BEGIN:VCALENDAR
VERSION:2.0
PRODID:-//Brewery Arts Center - ECPv6.15.9//NONSGML v1.0//EN
CALSCALE:GREGORIAN
METHOD:PUBLISH
X-ORIGINAL-URL:https://breweryarts.org
X-WR-CALDESC:Events for Brewery Arts Center
REFRESH-INTERVAL;VALUE=DURATION:PT1H
X-Robots-Tag:noindex
X-PUBLISHED-TTL:PT1H
BEGIN:VTIMEZONE
TZID:America/Los_Angeles
BEGIN:DAYLIGHT
TZOFFSETFROM:-0800
TZOFFSETTO:-0700
TZNAME:PDT
DTSTART:20230312T100000
END:DAYLIGHT
BEGIN:STANDARD
TZOFFSETFROM:-0700
TZOFFSETTO:-0800
TZNAME:PST
DTSTART:20231105T090000
END:STANDARD
BEGIN:DAYLIGHT
TZOFFSETFROM:-0800
TZOFFSETTO:-0700
TZNAME:PDT
DTSTART:20240310T100000
END:DAYLIGHT
BEGIN:STANDARD
TZOFFSETFROM:-0700
TZOFFSETTO:-0800
TZNAME:PST
DTSTART:20241103T090000
END:STANDARD
BEGIN:DAYLIGHT
TZOFFSETFROM:-0800
TZOFFSETTO:-0700
TZNAME:PDT
DTSTART:20250309T100000
END:DAYLIGHT
BEGIN:STANDARD
TZOFFSETFROM:-0700
TZOFFSETTO:-0800
TZNAME:PST
DTSTART:20251102T090000
END:STANDARD
END:VTIMEZONE
BEGIN:VEVENT
DTSTART;TZID=America/Los_Angeles:20240906T110000
DTEND;TZID=America/Los_Angeles:20240906T123000
DTSTAMP:20260420T224323
CREATED:20240822T214501Z
LAST-MODIFIED:20240905T183217Z
UID:10002100-1725620400-1725625800@breweryarts.org
SUMMARY:Maggie M's Beginning Art Classes for Adults | Fridays | September 6th 2024
DESCRIPTION:Maggie M’s Beginning Art Classes are for both adults and teens. Classes will provide instruction in drawing\, sketching\, and painting with watercolors and acrylics. Classes will be taught every Wednesday. \nCome and join us!
URL:https://breweryarts.org/event/20240906-maggie/
LOCATION:Brewery Arts Center | South Building | Drawing Studio\, 449 W KING ST\, CARSON CITY\, NV\, 89703\, United States
CATEGORIES:Art,Classes
ATTACH;FMTTYPE=image/jpeg:https://breweryarts.org/wp-content/uploads/2024/09/2024-MaggieMArtClasses-General-scaled.jpg
END:VEVENT
BEGIN:VEVENT
DTSTART;TZID=America/Los_Angeles:20240906T183000
DTEND;TZID=America/Los_Angeles:20240906T210000
DTSTAMP:20260420T224323
CREATED:20240821T215257Z
LAST-MODIFIED:20240907T013149Z
UID:10002092-1725647400-1725656400@breweryarts.org
SUMMARY:Adult Paint & Sip | There's Magic in the Woods | Friday | September 6th 2024
DESCRIPTION:Enjoy a fun and easy acrylic painting class as you follow along with instructor Debbie Corona in a relaxed and friendly atmosphere. \nIncludes two complimentary beverages and all materials. \nPlease arrive through 2nd St entrance.
URL:https://breweryarts.org/event/20240906-ps-magic/
LOCATION:Brewery Arts Center | South Building | Painting Studio\, 449 W King St\, Carson City\, NV\, 89703\, United States
CATEGORIES:Classes
ATTACH;FMTTYPE=image/jpeg:https://breweryarts.org/wp-content/uploads/2024/08/Theres-Magic-in-The-Woods.jpg
END:VEVENT
END:VCALENDAR